BEGIN:VCALENDAR
VERSION:2.0
PRODID:-//Gammelgården Museum - ECPv6.15.20//NONSGML v1.0//EN
CALSCALE:GREGORIAN
METHOD:PUBLISH
X-ORIGINAL-URL:https://gammelgardenmuseum.org
X-WR-CALDESC:Events for Gammelgården Museum
REFRESH-INTERVAL;VALUE=DURATION:PT1H
X-Robots-Tag:noindex
X-PUBLISHED-TTL:PT1H
BEGIN:VTIMEZONE
TZID:America/Chicago
BEGIN:DAYLIGHT
TZOFFSETFROM:-0600
TZOFFSETTO:-0500
TZNAME:CDT
DTSTART:20220313T080000
END:DAYLIGHT
BEGIN:STANDARD
TZOFFSETFROM:-0500
TZOFFSETTO:-0600
TZNAME:CST
DTSTART:20221106T070000
END:STANDARD
BEGIN:DAYLIGHT
TZOFFSETFROM:-0600
TZOFFSETTO:-0500
TZNAME:CDT
DTSTART:20230312T080000
END:DAYLIGHT
BEGIN:STANDARD
TZOFFSETFROM:-0500
TZOFFSETTO:-0600
TZNAME:CST
DTSTART:20231105T070000
END:STANDARD
BEGIN:DAYLIGHT
TZOFFSETFROM:-0600
TZOFFSETTO:-0500
TZNAME:CDT
DTSTART:20240310T080000
END:DAYLIGHT
BEGIN:STANDARD
TZOFFSETFROM:-0500
TZOFFSETTO:-0600
TZNAME:CST
DTSTART:20241103T070000
END:STANDARD
END:VTIMEZONE
BEGIN:VEVENT
DTSTART;TZID=America/Chicago:20230311T103000
DTEND;TZID=America/Chicago:20230311T123000
DTSTAMP:20260419T131536
CREATED:20230227T164400Z
LAST-MODIFIED:20230227T164525Z
UID:10000549-1678530600-1678537800@gammelgardenmuseum.org
SUMMARY:Needlefelting Workshop
DESCRIPTION:Use cookie cutters or create your own shapes using a variety of colors of wool as you learn the basics of needlefelting. The needlefelted items you make can be used as ornaments\, pins\, or wool coasters. \n  \nThis class is good for children ages 8+ years old and adults. Children must have an adult with them in order to take the class. \n  \n$15 per person/$25 for an adult and child. All supplies are provided. \n  \nRegister here: https://www.eventbrite.com/e/needlefelting-workshop-tickets-527419685477 \nLimit – 12 students per workshop. \n  \nRegister early to guarantee a spot!
URL:https://gammelgardenmuseum.org/event/needlefelting-workshop-march-11/
LOCATION:Gammelgarden Museum of Scandia\, 20880 Olinda Trail North\, Scandia\, MN\, 55073\, United States
ATTACH;FMTTYPE=image/jpeg:https://gammelgardenmuseum.org/wp-content/uploads/2023/01/Needlfelted-Star.jpg
END:VEVENT
BEGIN:VEVENT
DTSTART;TZID=America/Chicago:20230311T130000
DTEND;TZID=America/Chicago:20230311T150000
DTSTAMP:20260419T131536
CREATED:20230128T041934Z
LAST-MODIFIED:20230207T020249Z
UID:10000003-1678539600-1678546800@gammelgardenmuseum.org
SUMMARY:Swedish Samtalscirkel (Conversation Circle)
DESCRIPTION:Are you looking for conversation partners to practice your Swedish\, discuss various topics\, or just casual chatting? Do you want just want to listen to people speaking Swedish?\nThen you are welcome to join our free “Swedish Samtalscirkel” once a month in February and March.\n\nSigne Fluegel will be leading the Samtalscirkel\, and it will be held on the second floor of the Valkommen Hus.\n\nThere is not a special topic that we will be talking about. It’s just a nice chat between those who want to talk in Swedish.\n\n\nYou do not need to be fluent in Swedish to take part in this free gathering. \nPlease let us know you’ll be attending by registering at Eventbrite (there’s no cost): https://www.eventbrite.com/e/swedish-samtalscirkel-conversation-circle-tickets-527378030887
URL:https://gammelgardenmuseum.org/event/swedish-samtalscirkel-conversation-circle/2023-03-11/
LOCATION:MN
ATTACH;FMTTYPE=image/png:https://gammelgardenmuseum.org/wp-content/uploads/2023/01/Swedish-Circles.png
END:VEVENT
END:VCALENDAR