BEGIN:VCALENDAR
VERSION:2.0
PRODID:-//Gammelgården Museum - ECPv6.15.20//NONSGML v1.0//EN
CALSCALE:GREGORIAN
METHOD:PUBLISH
X-WR-CALNAME:Gammelgården Museum
X-ORIGINAL-URL:https://gammelgardenmuseum.org
X-WR-CALDESC:Events for Gammelgården Museum
REFRESH-INTERVAL;VALUE=DURATION:PT1H
X-Robots-Tag:noindex
X-PUBLISHED-TTL:PT1H
BEGIN:VTIMEZONE
TZID:America/Chicago
BEGIN:DAYLIGHT
TZOFFSETFROM:-0600
TZOFFSETTO:-0500
TZNAME:CDT
DTSTART:20220313T080000
END:DAYLIGHT
BEGIN:STANDARD
TZOFFSETFROM:-0500
TZOFFSETTO:-0600
TZNAME:CST
DTSTART:20221106T070000
END:STANDARD
BEGIN:DAYLIGHT
TZOFFSETFROM:-0600
TZOFFSETTO:-0500
TZNAME:CDT
DTSTART:20230312T080000
END:DAYLIGHT
BEGIN:STANDARD
TZOFFSETFROM:-0500
TZOFFSETTO:-0600
TZNAME:CST
DTSTART:20231105T070000
END:STANDARD
BEGIN:DAYLIGHT
TZOFFSETFROM:-0600
TZOFFSETTO:-0500
TZNAME:CDT
DTSTART:20240310T080000
END:DAYLIGHT
BEGIN:STANDARD
TZOFFSETFROM:-0500
TZOFFSETTO:-0600
TZNAME:CST
DTSTART:20241103T070000
END:STANDARD
END:VTIMEZONE
BEGIN:VEVENT
DTSTART;TZID=America/Chicago:20230505T100000
DTEND;TZID=America/Chicago:20230505T160000
DTSTAMP:20260421T051040
CREATED:20230218T130915Z
LAST-MODIFIED:20230414T191508Z
UID:10000063-1683280800-1683302400@gammelgardenmuseum.org
SUMMARY:Opening Weekend
DESCRIPTION:Opening Weekend celebrates Gammelgården Museum of Scandia’s focus in its 51st year: Swedish Folk Painting Tradition and Innovation. \nTours will be held on Friday and Saturday at 10:30 AM\, 1:00 PM\, and 2:30 PM; and on Sunday at 1:00 PM and 2:30 PM. \nOn Friday and Saturday during Opening Weekend\, tours are free. Starting on Sunday\, tickets are $10 per person ($9 Admission/Tour for Military). Gammelgården Members\, ASI Current Members\, and Children under 12 are free. Reservations are not required. \nOn Saturday\, May 6th\, watch the craft and artisan demonstrators\, visit the Artists & Crafters Fair\, do hands-on activities for people of all ages\, and tour the historic buildings.  \nCostumed members of the Living History Society of Minnesota demonstrate popular nineteenth-century games appropriate for adults and/or children. Participants have the opportunity to engage in a nineteenth-century game with members of the Society. Popular games of the period include: Graces\, Tail of the Dog\, Hopscotch\, Marbles\, Jump Rope\, Croquet\, and Barnyard Animals. \nOn Saturday from 5:00-7:00 p.m.\, there is a birthday party for Gammelgården – with a catered picnic dinner and birthday cake as well as music and fun activities. Bring your blanket and enjoy your dinner on the Gammelgården grounds\, listen to music\, and play old-fashioned games. This is a ticketed event.
URL:https://gammelgardenmuseum.org/event/opening-weekend/2023-05-05/
LOCATION:Gammelgarden Museum of Scandia\, 20880 Olinda Trail North\, Scandia\, MN\, 55073\, United States
CATEGORIES:Youth
ATTACH;FMTTYPE=image/jpeg:https://gammelgardenmuseum.org/wp-content/uploads/2023/02/7326692928_52d1d1596a_c-1.jpg
END:VEVENT
BEGIN:VEVENT
DTSTART;TZID=America/Chicago:20230505T103000
DTEND;TZID=America/Chicago:20230505T113000
DTSTAMP:20260421T051040
CREATED:20230218T142147Z
LAST-MODIFIED:20230414T012220Z
UID:10000134-1683282600-1683286200@gammelgardenmuseum.org
SUMMARY:Tour - 10:30 a.m.
DESCRIPTION:Tours will be held on Friday and Saturday at 10:30 AM\, 1:00 PM\, and 2:30 PM; and on Sunday at 1:00 PM and 2:30 PM. \nRates: \n$10 Admission/Tour \n$9 Admission/Tour for Military (Active\, Retired\, and Veterans) and Time Travelers Members \nFree Admission/Tour for Gammelgården Members\, ASI Current Members\, and Children under 12 \nReservations are not required. \nFor group tours and school field trips\, please visit https://gammelgardenmuseum.org/tours/ for more information and to book a tour. Reservations are required for group tours and school field trips. 
URL:https://gammelgardenmuseum.org/event/tour-1030-a-m/2023-05-05/
LOCATION:Gammelgarden Museum of Scandia\, 20880 Olinda Trail North\, Scandia\, MN\, 55073\, United States
ATTACH;FMTTYPE=image/jpeg:https://gammelgardenmuseum.org/wp-content/uploads/2023/02/Friday-Tour.jpg
END:VEVENT
BEGIN:VEVENT
DTSTART;TZID=America/Chicago:20230505T130000
DTEND;TZID=America/Chicago:20230505T140000
DTSTAMP:20260421T051040
CREATED:20230218T142837Z
LAST-MODIFIED:20230413T170157Z
UID:10000388-1683291600-1683295200@gammelgardenmuseum.org
SUMMARY:Tour - 1:00 p.m.
DESCRIPTION:Tours will be held on Friday and Saturday at 10:30 AM\, 1:00 PM\, and 2:30 PM; and on Sunday at 1:00 PM and 2:30 PM. \nRates: \n$10 Admission/Tour \n$9 Admission/Tour for Military (Active\, Retired\, and Veterans) and Time Travelers Members \nFree Admission/Tour for Gammelgården Members\, ASI Current Members\, and Children under 12 \nReservations are not required. \nFor group tours and school field trips\, please visit https://gammelgardenmuseum.org/tours/ for more information and to book a tour. Reservations are required for group tours and school field trips. 
URL:https://gammelgardenmuseum.org/event/tour-130-p-m/2023-05-05/
LOCATION:Gammelgarden Museum of Scandia\, 20880 Olinda Trail North\, Scandia\, MN\, 55073\, United States
ATTACH;FMTTYPE=image/jpeg:https://gammelgardenmuseum.org/wp-content/uploads/2023/02/Gammelgarden-Tour-3-people.jpg
END:VEVENT
BEGIN:VEVENT
DTSTART;TZID=America/Chicago:20230505T143000
DTEND;TZID=America/Chicago:20230505T153000
DTSTAMP:20260421T051040
CREATED:20230219T183611Z
LAST-MODIFIED:20230413T170229Z
UID:10000513-1683297000-1683300600@gammelgardenmuseum.org
SUMMARY:Tour - 2:30 p.m.
DESCRIPTION:Tours will be held on Friday and Saturday at 10:30 AM\, 1:00 PM\, and 2:30 PM; and on Sunday at 1:00 PM and 2:30 PM. \nRates: \n$10 Admission/Tour \n$9 Admission/Tour for Military (Active\, Retired\, and Veterans) and Time Travelers Members \nFree Admission/Tour for Gammelgården Members\, ASI Current Members\, and Children under 12 \nReservations are not required. \nFor group tours and school field trips\, please visit https://gammelgardenmuseum.org/tours/ for more information and to book a tour. Reservations are required for group tours and school field trips. 
URL:https://gammelgardenmuseum.org/event/tour-230-p-m-2/2023-05-05/
LOCATION:Gammelgarden Museum of Scandia\, 20880 Olinda Trail North\, Scandia\, MN\, 55073\, United States
ATTACH;FMTTYPE=image/jpeg:https://gammelgardenmuseum.org/wp-content/uploads/2023/02/Tour-Eleanor.jpg
END:VEVENT
END:VCALENDAR