BEGIN:VCALENDAR
VERSION:2.0
PRODID:-//Gammelgården Museum - ECPv6.15.20//NONSGML v1.0//EN
CALSCALE:GREGORIAN
METHOD:PUBLISH
X-ORIGINAL-URL:https://gammelgardenmuseum.org
X-WR-CALDESC:Events for Gammelgården Museum
REFRESH-INTERVAL;VALUE=DURATION:PT1H
X-Robots-Tag:noindex
X-PUBLISHED-TTL:PT1H
BEGIN:VTIMEZONE
TZID:America/Chicago
BEGIN:DAYLIGHT
TZOFFSETFROM:-0600
TZOFFSETTO:-0500
TZNAME:CDT
DTSTART:20220313T080000
END:DAYLIGHT
BEGIN:STANDARD
TZOFFSETFROM:-0500
TZOFFSETTO:-0600
TZNAME:CST
DTSTART:20221106T070000
END:STANDARD
BEGIN:DAYLIGHT
TZOFFSETFROM:-0600
TZOFFSETTO:-0500
TZNAME:CDT
DTSTART:20230312T080000
END:DAYLIGHT
BEGIN:STANDARD
TZOFFSETFROM:-0500
TZOFFSETTO:-0600
TZNAME:CST
DTSTART:20231105T070000
END:STANDARD
BEGIN:DAYLIGHT
TZOFFSETFROM:-0600
TZOFFSETTO:-0500
TZNAME:CDT
DTSTART:20240310T080000
END:DAYLIGHT
BEGIN:STANDARD
TZOFFSETFROM:-0500
TZOFFSETTO:-0600
TZNAME:CST
DTSTART:20241103T070000
END:STANDARD
END:VTIMEZONE
BEGIN:VEVENT
DTSTART;TZID=America/Chicago:20230809T100000
DTEND;TZID=America/Chicago:20230809T150000
DTSTAMP:20260422T134845
CREATED:20230218T225745Z
LAST-MODIFIED:20230725T174138Z
UID:10000309-1691575200-1691593200@gammelgardenmuseum.org
SUMMARY:Sewing Camp
DESCRIPTION:Artist-in-residence Natalie Norman guides children on sewing a child-size pocket purse (kjolväskor) that American Girl Doll Kirsten wears. The kjolväskor can be worn around the waist or as a shoulder bag. \n  \nThis is the perfect introduction to sewing and embroidery for children to learn these skills as well as for advanced beginners to continue to grow their skills. At least three embroidery stitches will be used to create the kjolväskor. \n  \nNatalie also shows children the many kjolväskor that she has created and how they compare to the historic ones in Gammelgården’s collection. \n  \nIn addition to the hour and a half that children work with Natalie each day\, there are many other fun activities: \n– Tour Gammelgarden’s historic buildings and discover items early settlers used in their everyday lives. \n– Do craft projects. \n– Play pioneer games – like Hoop-and-Stick as well as try out small pioneer toys including Cup-and-Ball\, Jacob’s ladders\, Yo-Yo’s\, Spinning tops\, and more. \n– Spend time in the heirloom gardens and see what types of vegetables\, herbs\, and fruits were grown in 1850-1880. \n– Explore the prairie and discover wildlife that calls this area home. \n  \nChildren are encouraged to dress up in costumes reflective of pioneers and/or early Swedish immigrants. \n  \nOffered: Tuesday and Wednesday\, August 8-9\, 10:00 a.m. – 3:00 p.m. \nAges: Children entering first grade through sixth grade. \nFee: $90 members/$115 non-members (all supplies included). \nBring: Lunch\, water bottle\, and a change of clothes. \nRegistration Deadline: July 20. Limited to 16 children. Make your reservation early to guarantee a spot. \nCancellation Policy: Up to 3 weeks before the event – 50% refund. Under 3 weeks before the event\, no refunds. \n  \nDETAILED SCHEDULE: \nTuesday\, August 8th \n10:00-10:15 – Welcome and overview of the day \n10:15-11:00 – Breakout Session – 1A \n\nGROUP BLUE – Session 1A with Natalie – Hear about the history of kjolväskor (purse)\, introduction to the sewing project\, and choose supplies to create a kjolväskor.\nGROUP YELLOW – Session 1A with Gammelgården Intern and Volunteers – Learn about how immigrants in the 1800s would have dyed clothing and then make a contemporary tie-dye t-shirt.\n\n11-11:15 – Break/Explore Discovery Stations related to arts and crafts\, farming\, nature\, and pioneer games \n11:15-12:00 – Breakout Session – 1B \n\nGROUP BLUE – Session 1B with Gammelgården Intern and Volunteers – Learn about how immigrants in the 1800s would have dyed clothing and then make a contemporary tie-dye t-shirt.\nGROUP YELLOW – Session 1B with Natalie – Hear about the history of kjolväskor (purse)\, introduction to the sewing project\, and choose supplies to create a kjolväskor.\n\n12:00-12:15 – Lunch \n12:15-12:30 – Games and/or Discovery Stations \n12:30-12:45 – Tomte’s Treasure Hunt – Explore the two oldest buildings at Gammelgården (Old Church and Immigrant House) and find three special artifacts in each building that the Tomte has \nmarked with a wooden key. \n 12:45-1:30 – Breakout Session – 2A \n\nGROUP BLUE – Session 2A with Natalie – Begin sewing kjolväskor.\nGROUP YELLOW – Session 2A with Gammelgården Intern and Volunteers – Go on a scavenger hunt to see what critters (birds\, flowers\, animals\, and bugs) can be found in the restored prairie. Make a suet feeder to attract birds to your yard.\n\n1:30-2:15 – Breakout Session – 2B \n\nGROUP BLUE – Session 2B with Gammelgården Intern and Volunteers – Go on a scavenger hunt to see what critters (flowers\, animals\, and bugs) can be found in the restored prairie. Make a suet feeder to attract birds to your yard.\nGROUP YELLOW – Session 2B with Natalie – Begin sewing kjolväskor.\n\n2:15-2:30 – Discovery Stations \n2:45-3:00 – Game and wrap up the day \n  \nWednesday\, August 9th  \n10:00-10:15 – Welcome and overview of the day \n10:15-11:00 – Breakout Session – 3A \n\nGROUP BLUE – Session 3A with Natalie – Continue sewing kjolväskor and adding decorative embroidery stitches to it.\nGROUP YELLOW – Session 3A with Gammelgården Intern and Volunteers – Learn about sheep and how they were used on a pioneer farm. Make a needle-felted wool acorn necklace or ornament.\n\n11-11:15 – Break/Explore Discovery Stations related to arts and crafts\, farming\, nature\, and pioneer games \n11:15-12:00 – Breakout Session – 3B \n\nGROUP BLUE – Session 3B with Gammelgården Intern and Volunteers – Learn about sheep and how they were used on a pioneer farm. Make a needle-felted wool acorn necklace or ornament.\nGROUP YELLOW – Session 3B with Natalie – Continue sewing kjolväskor and adding decorative embroidery stitches to it.\n\n12:00-12:15 – Lunch \n12:15-12:30 – Games and/or Discovery Stations \n12:30-12:45 – Tomte’s Treasure Hunt – Explore the other three historic buildings at Gammelgården (Pastor’s House\, Barn\, and Stuga) and find three special artifacts in each building that the Tomte has marked with a wooden key. \n 12:45-1:30 – Breakout Session – 4A \n\nGROUP BLUE – Session 4A with Natalie – Finish sewing kjolväskor.\nGROUP YELLOW – Session 4A with Gammelgården Intern and Volunteers – Learn all about bees and how pioneers collected honey to eat and wax to make candles. Make a rolled beeswax candle to use at home.\n\n1:30-2:15 – Breakout Session – 4B \n\nGROUP BLUE – Session 4B with Gammelgården Intern and Volunteers – Learn all about bees and how pioneers collected honey to eat and wax to make candles. Make a rolled beeswax candle to use at home.\nGROUP YELLOW – Session 4B with Natalie – Finish sewing kjolväskor.\n\n2:15-2:30 – Discovery Stations \n2:45-3:00 – Wrap up the day and closing activity \n 
URL:https://gammelgardenmuseum.org/event/sewing-and-quilting-camp/2023-08-09/
LOCATION:Gammelgarden Museum of Scandia\, 20880 Olinda Trail North\, Scandia\, MN\, 55073\, United States
CATEGORIES:Youth
ATTACH;FMTTYPE=image/jpeg:https://gammelgardenmuseum.org/wp-content/uploads/2023/02/Natalie-Norman-Bag-Blue.jpg
END:VEVENT
END:VCALENDAR