BEGIN:VCALENDAR
VERSION:2.0
PRODID:-//Gammelgården Museum - ECPv6.15.20//NONSGML v1.0//EN
CALSCALE:GREGORIAN
METHOD:PUBLISH
X-WR-CALNAME:Gammelgården Museum
X-ORIGINAL-URL:https://gammelgardenmuseum.org
X-WR-CALDESC:Events for Gammelgården Museum
REFRESH-INTERVAL;VALUE=DURATION:PT1H
X-Robots-Tag:noindex
X-PUBLISHED-TTL:PT1H
BEGIN:VTIMEZONE
TZID:America/Chicago
BEGIN:DAYLIGHT
TZOFFSETFROM:-0600
TZOFFSETTO:-0500
TZNAME:CDT
DTSTART:20220313T080000
END:DAYLIGHT
BEGIN:STANDARD
TZOFFSETFROM:-0500
TZOFFSETTO:-0600
TZNAME:CST
DTSTART:20221106T070000
END:STANDARD
BEGIN:DAYLIGHT
TZOFFSETFROM:-0600
TZOFFSETTO:-0500
TZNAME:CDT
DTSTART:20230312T080000
END:DAYLIGHT
BEGIN:STANDARD
TZOFFSETFROM:-0500
TZOFFSETTO:-0600
TZNAME:CST
DTSTART:20231105T070000
END:STANDARD
BEGIN:DAYLIGHT
TZOFFSETFROM:-0600
TZOFFSETTO:-0500
TZNAME:CDT
DTSTART:20240310T080000
END:DAYLIGHT
BEGIN:STANDARD
TZOFFSETFROM:-0500
TZOFFSETTO:-0600
TZNAME:CST
DTSTART:20241103T070000
END:STANDARD
END:VTIMEZONE
BEGIN:VEVENT
DTSTART;TZID=America/Chicago:20230811T100000
DTEND;TZID=America/Chicago:20230811T153000
DTSTAMP:20260422T120608
CREATED:20230218T221213Z
LAST-MODIFIED:20230801T225244Z
UID:10000305-1691748000-1691767800@gammelgardenmuseum.org
SUMMARY:Almelund Threshing Show/Clover Blossom Schoolhouse
DESCRIPTION:Visit Gammelgården Museum of Scandia at the Clover Blossom School at the Almelund Threshing Show. There will be two free crafts for youth from 10:00 am until 3:30 pm each day. Although there is no fee for the crafts\, there is a fee to get into the Almelund Threshing Show.
URL:https://gammelgardenmuseum.org/event/almelund-threshing-show-clover-blossom-schoolhouse/2023-08-11/
LOCATION:Washington County Heritage Center\, 1862 Greeley Street\, Stillwater\, MN\, 55082\, United States
CATEGORIES:Youth
ATTACH;FMTTYPE=image/jpeg:https://gammelgardenmuseum.org/wp-content/uploads/2023/02/50573608088_6e0c03d69d_c.jpg
END:VEVENT
BEGIN:VEVENT
DTSTART;TZID=America/Chicago:20230811T103000
DTEND;TZID=America/Chicago:20230811T113000
DTSTAMP:20260422T120608
CREATED:20230218T142147Z
LAST-MODIFIED:20230414T012220Z
UID:10000148-1691749800-1691753400@gammelgardenmuseum.org
SUMMARY:Tour - 10:30 a.m.
DESCRIPTION:Tours will be held on Friday and Saturday at 10:30 AM\, 1:00 PM\, and 2:30 PM; and on Sunday at 1:00 PM and 2:30 PM. \nRates: \n$10 Admission/Tour \n$9 Admission/Tour for Military (Active\, Retired\, and Veterans) and Time Travelers Members \nFree Admission/Tour for Gammelgården Members\, ASI Current Members\, and Children under 12 \nReservations are not required. \nFor group tours and school field trips\, please visit https://gammelgardenmuseum.org/tours/ for more information and to book a tour. Reservations are required for group tours and school field trips. 
URL:https://gammelgardenmuseum.org/event/tour-1030-a-m/2023-08-11/
LOCATION:Gammelgarden Museum of Scandia\, 20880 Olinda Trail North\, Scandia\, MN\, 55073\, United States
ATTACH;FMTTYPE=image/jpeg:https://gammelgardenmuseum.org/wp-content/uploads/2023/02/Friday-Tour.jpg
END:VEVENT
BEGIN:VEVENT
DTSTART;TZID=America/Chicago:20230811T103000
DTEND;TZID=America/Chicago:20230811T160000
DTSTAMP:20260422T120608
CREATED:20230323T012639Z
LAST-MODIFIED:20230421T004003Z
UID:10000559-1691749800-1691769600@gammelgardenmuseum.org
SUMMARY:Painted/Decorated Tomte Due (Community Art Show)
DESCRIPTION:Receive a blank wooden tomte that can be painted or decorated any way you like. Have your artwork displayed on the tennis court fence at Barton Johnson Memorial Park (adjacent to Gammelgården Museum) from mid-August to the day after Taco Daze. \nOffered: Wooden tomtes are available for pick-up on Friday\, July 21. Artwork is due on Friday\, August 11. The painted and decorated tomtes are displayed from Friday\, August 18 to Sunday\, September 10. Tomtes are available for pick-up on September 10 after 1 p.m. \nAges: All ages. \nFee: $20 per blank wooden tomte to help support children’s programs\, and keep the costs affordable and accessible. \nRegister at: https://tinyurl.com/paintatomte \nRegistration Deadline: Friday\, July 7 to reserve a tomte.
URL:https://gammelgardenmuseum.org/event/painted-decorated-tomte-due-community-art-show/
LOCATION:MN
CATEGORIES:Youth
ATTACH;FMTTYPE=image/webp:https://gammelgardenmuseum.org/wp-content/uploads/2023/03/Tomte-Image.webp
END:VEVENT
BEGIN:VEVENT
DTSTART;TZID=America/Chicago:20230811T130000
DTEND;TZID=America/Chicago:20230811T140000
DTSTAMP:20260422T120608
CREATED:20230218T142837Z
LAST-MODIFIED:20230413T170157Z
UID:10000402-1691758800-1691762400@gammelgardenmuseum.org
SUMMARY:Tour - 1:00 p.m.
DESCRIPTION:Tours will be held on Friday and Saturday at 10:30 AM\, 1:00 PM\, and 2:30 PM; and on Sunday at 1:00 PM and 2:30 PM. \nRates: \n$10 Admission/Tour \n$9 Admission/Tour for Military (Active\, Retired\, and Veterans) and Time Travelers Members \nFree Admission/Tour for Gammelgården Members\, ASI Current Members\, and Children under 12 \nReservations are not required. \nFor group tours and school field trips\, please visit https://gammelgardenmuseum.org/tours/ for more information and to book a tour. Reservations are required for group tours and school field trips. 
URL:https://gammelgardenmuseum.org/event/tour-130-p-m/2023-08-11/
LOCATION:Gammelgarden Museum of Scandia\, 20880 Olinda Trail North\, Scandia\, MN\, 55073\, United States
ATTACH;FMTTYPE=image/jpeg:https://gammelgardenmuseum.org/wp-content/uploads/2023/02/Gammelgarden-Tour-3-people.jpg
END:VEVENT
BEGIN:VEVENT
DTSTART;TZID=America/Chicago:20230811T143000
DTEND;TZID=America/Chicago:20230811T153000
DTSTAMP:20260422T120608
CREATED:20230219T183611Z
LAST-MODIFIED:20230413T170229Z
UID:10000527-1691764200-1691767800@gammelgardenmuseum.org
SUMMARY:Tour - 2:30 p.m.
DESCRIPTION:Tours will be held on Friday and Saturday at 10:30 AM\, 1:00 PM\, and 2:30 PM; and on Sunday at 1:00 PM and 2:30 PM. \nRates: \n$10 Admission/Tour \n$9 Admission/Tour for Military (Active\, Retired\, and Veterans) and Time Travelers Members \nFree Admission/Tour for Gammelgården Members\, ASI Current Members\, and Children under 12 \nReservations are not required. \nFor group tours and school field trips\, please visit https://gammelgardenmuseum.org/tours/ for more information and to book a tour. Reservations are required for group tours and school field trips. 
URL:https://gammelgardenmuseum.org/event/tour-230-p-m-2/2023-08-11/
LOCATION:Gammelgarden Museum of Scandia\, 20880 Olinda Trail North\, Scandia\, MN\, 55073\, United States
ATTACH;FMTTYPE=image/jpeg:https://gammelgardenmuseum.org/wp-content/uploads/2023/02/Tour-Eleanor.jpg
END:VEVENT
END:VCALENDAR