BEGIN:VCALENDAR
VERSION:2.0
PRODID:-//Gammelgården Museum - ECPv6.15.20//NONSGML v1.0//EN
CALSCALE:GREGORIAN
METHOD:PUBLISH
X-ORIGINAL-URL:https://gammelgardenmuseum.org
X-WR-CALDESC:Events for Gammelgården Museum
REFRESH-INTERVAL;VALUE=DURATION:PT1H
X-Robots-Tag:noindex
X-PUBLISHED-TTL:PT1H
BEGIN:VTIMEZONE
TZID:America/Chicago
BEGIN:DAYLIGHT
TZOFFSETFROM:-0600
TZOFFSETTO:-0500
TZNAME:CDT
DTSTART:20220313T080000
END:DAYLIGHT
BEGIN:STANDARD
TZOFFSETFROM:-0500
TZOFFSETTO:-0600
TZNAME:CST
DTSTART:20221106T070000
END:STANDARD
BEGIN:DAYLIGHT
TZOFFSETFROM:-0600
TZOFFSETTO:-0500
TZNAME:CDT
DTSTART:20230312T080000
END:DAYLIGHT
BEGIN:STANDARD
TZOFFSETFROM:-0500
TZOFFSETTO:-0600
TZNAME:CST
DTSTART:20231105T070000
END:STANDARD
BEGIN:DAYLIGHT
TZOFFSETFROM:-0600
TZOFFSETTO:-0500
TZNAME:CDT
DTSTART:20240310T080000
END:DAYLIGHT
BEGIN:STANDARD
TZOFFSETFROM:-0500
TZOFFSETTO:-0600
TZNAME:CST
DTSTART:20241103T070000
END:STANDARD
END:VTIMEZONE
BEGIN:VEVENT
DTSTART;TZID=America/Chicago:20230815T100000
DTEND;TZID=America/Chicago:20230815T150000
DTSTAMP:20260422T153726
CREATED:20230614T234906Z
LAST-MODIFIED:20230725T174211Z
UID:10000570-1692093600-1692111600@gammelgardenmuseum.org
SUMMARY:Camp Tomte
DESCRIPTION:New this year! Camp Tomte is an exciting two-day camp for 7-10 years olds who love crafts\, nature\, history\, and games. This fun camp is packed with hands-on activities to encourage a sense of exploration\, creativity\, and discovery. \nAugust 14th  \n10-10:30 – Arrival\, check-in\, Discovery Stations \n10:30-10:40 – Introduction/overview of the day \n10:40-12:00 – Make tomtes \n12:00-12:30 – Lunch and time with the Discovery Stations \n12:30-12:40 – Outdoor games \n12:40-12:55 – Find hidden tomtes in classroom \n12:55-1:25- Nature – focus on the restored prairie \n1:25-1:55 – Nature craft –  cyanotype prints \n1:55-2:10 – Nature journaling \n2:10-2:45 – Tomte Treasure Hunt – Church and Immigrant House \n2:45-3:00 –Gathering all items to take home. Closing activity \n  \nAugust 15th \n10-10:30 – Arrival\, check-in\, Discovery Stations \n10:30-10:40 – Overview of the day \n10:40-11:10 – History focus: How the Swedish immigrants got to this area \n11:10-12:00 – Environmental craft – Make a boat using upcycled materials \n12:00-12:30 – Lunch and time with the Discovery Stations \n12:30-12:40 – Outdoor games \n12:40-12:55 – Find hidden tomtes in classroom \n12:55-1:25- Nature – focus on the pond. \n1:25-1:55 – Nature craft – create pond creatures and scene using air-dry clay \n1:55-2:10 – Nature journaling \n2:10-2:45 – Tomte Treasure Hunt – Barn\, Pastor’s House\, and Stuga \n2:45-3:00 –Gathering all items to take home. Closing activity \n  \nBring: Lunch\, water bottle\, and sunscreen \nFee: $50 (members)\, $60 (non-members) \nRegister here: https://www.eventbrite.com/e/camp-tomte-childrens-summer-day-camp-tickets-674360529497 \nCancellation Policy: Up to 3 weeks before the event – 50% refund. Under 3 weeks before the event\, no refunds. \n 
URL:https://gammelgardenmuseum.org/event/barn-quilts-tomtes-childrens-camp/2023-08-15/
LOCATION:Gammelgarden Museum of Scandia\, 20880 Olinda Trail North\, Scandia\, MN\, 55073\, United States
CATEGORIES:Youth
ATTACH;FMTTYPE=image/jpeg:https://gammelgardenmuseum.org/wp-content/uploads/2023/06/DSC0595-010.jpg
END:VEVENT
END:VCALENDAR