BEGIN:VCALENDAR
VERSION:2.0
PRODID:-//Gammelgården Museum - ECPv6.15.20//NONSGML v1.0//EN
CALSCALE:GREGORIAN
METHOD:PUBLISH
X-ORIGINAL-URL:https://gammelgardenmuseum.org
X-WR-CALDESC:Events for Gammelgården Museum
REFRESH-INTERVAL;VALUE=DURATION:PT1H
X-Robots-Tag:noindex
X-PUBLISHED-TTL:PT1H
BEGIN:VTIMEZONE
TZID:America/Chicago
BEGIN:DAYLIGHT
TZOFFSETFROM:-0600
TZOFFSETTO:-0500
TZNAME:CDT
DTSTART:20220313T080000
END:DAYLIGHT
BEGIN:STANDARD
TZOFFSETFROM:-0500
TZOFFSETTO:-0600
TZNAME:CST
DTSTART:20221106T070000
END:STANDARD
BEGIN:DAYLIGHT
TZOFFSETFROM:-0600
TZOFFSETTO:-0500
TZNAME:CDT
DTSTART:20230312T080000
END:DAYLIGHT
BEGIN:STANDARD
TZOFFSETFROM:-0500
TZOFFSETTO:-0600
TZNAME:CST
DTSTART:20231105T070000
END:STANDARD
BEGIN:DAYLIGHT
TZOFFSETFROM:-0600
TZOFFSETTO:-0500
TZNAME:CDT
DTSTART:20240310T080000
END:DAYLIGHT
BEGIN:STANDARD
TZOFFSETFROM:-0500
TZOFFSETTO:-0600
TZNAME:CST
DTSTART:20241103T070000
END:STANDARD
END:VTIMEZONE
BEGIN:VEVENT
DTSTART;VALUE=DATE:20230828
DTEND;VALUE=DATE:20230911
DTSTAMP:20260423T105815
CREATED:20230514T230150Z
LAST-MODIFIED:20230720T233629Z
UID:10000566-1693180800-1694390399@gammelgardenmuseum.org
SUMMARY:Tomte Community Art Show
DESCRIPTION:See the decorated tomtes on the tennis court fence at the Barton Johnson Memorial Park (adjacent to Gammelgarden Museum of Scandia). The tomtes are decorated by people in the community – from young children to adults.
URL:https://gammelgardenmuseum.org/event/tomte-community-art-show/
LOCATION:Gammelgarden Museum of Scandia\, 20880 Olinda Trail North\, Scandia\, MN\, 55073\, United States
END:VEVENT
BEGIN:VEVENT
DTSTART;VALUE=DATE:20230903
DTEND;VALUE=DATE:20230918
DTSTAMP:20260423T105815
CREATED:20230903T222454Z
LAST-MODIFIED:20230903T222454Z
UID:10000592-1693699200-1694995199@gammelgardenmuseum.org
SUMMARY:Pop-Up Exhibit: Swedish Tomtes in Photography\, Wood\, and Ceramics
DESCRIPTION:See a variety of Swedish tomtes featured in photography by two photographers living in Mellerud\, Sweden combined with tomtes in Gammelgården’s collection. \nThere are ten photographs created by Rolf Linder and Tanja Mueller. Surrounding the photographs are 23 tomtes and other items to create scenes to complement Mr. Linder’s and Ms. Mueller’s images.
URL:https://gammelgardenmuseum.org/event/pop-up-exhibit-swedish-tomtes-in-photography-wood-and-ceramics/
LOCATION:Gammelgarden Museum of Scandia\, 20880 Olinda Trail North\, Scandia\, MN\, 55073\, United States
ATTACH;FMTTYPE=image/jpeg:https://gammelgardenmuseum.org/wp-content/uploads/2023/08/Tanja-Mueller-Mellerud-Tomtar-IMG_0081-scaled.jpg
END:VEVENT
BEGIN:VEVENT
DTSTART;TZID=America/Chicago:20230908T103000
DTEND;TZID=America/Chicago:20230908T113000
DTSTAMP:20260423T105815
CREATED:20230218T142147Z
LAST-MODIFIED:20230414T012220Z
UID:10000152-1694169000-1694172600@gammelgardenmuseum.org
SUMMARY:Tour - 10:30 a.m.
DESCRIPTION:Tours will be held on Friday and Saturday at 10:30 AM\, 1:00 PM\, and 2:30 PM; and on Sunday at 1:00 PM and 2:30 PM. \nRates: \n$10 Admission/Tour \n$9 Admission/Tour for Military (Active\, Retired\, and Veterans) and Time Travelers Members \nFree Admission/Tour for Gammelgården Members\, ASI Current Members\, and Children under 12 \nReservations are not required. \nFor group tours and school field trips\, please visit https://gammelgardenmuseum.org/tours/ for more information and to book a tour. Reservations are required for group tours and school field trips. 
URL:https://gammelgardenmuseum.org/event/tour-1030-a-m/2023-09-08/
LOCATION:Gammelgarden Museum of Scandia\, 20880 Olinda Trail North\, Scandia\, MN\, 55073\, United States
ATTACH;FMTTYPE=image/jpeg:https://gammelgardenmuseum.org/wp-content/uploads/2023/02/Friday-Tour.jpg
END:VEVENT
BEGIN:VEVENT
DTSTART;TZID=America/Chicago:20230908T130000
DTEND;TZID=America/Chicago:20230908T140000
DTSTAMP:20260423T105815
CREATED:20230218T142837Z
LAST-MODIFIED:20230413T170157Z
UID:10000406-1694178000-1694181600@gammelgardenmuseum.org
SUMMARY:Tour - 1:00 p.m.
DESCRIPTION:Tours will be held on Friday and Saturday at 10:30 AM\, 1:00 PM\, and 2:30 PM; and on Sunday at 1:00 PM and 2:30 PM. \nRates: \n$10 Admission/Tour \n$9 Admission/Tour for Military (Active\, Retired\, and Veterans) and Time Travelers Members \nFree Admission/Tour for Gammelgården Members\, ASI Current Members\, and Children under 12 \nReservations are not required. \nFor group tours and school field trips\, please visit https://gammelgardenmuseum.org/tours/ for more information and to book a tour. Reservations are required for group tours and school field trips. 
URL:https://gammelgardenmuseum.org/event/tour-130-p-m/2023-09-08/
LOCATION:Gammelgarden Museum of Scandia\, 20880 Olinda Trail North\, Scandia\, MN\, 55073\, United States
ATTACH;FMTTYPE=image/jpeg:https://gammelgardenmuseum.org/wp-content/uploads/2023/02/Gammelgarden-Tour-3-people.jpg
END:VEVENT
BEGIN:VEVENT
DTSTART;TZID=America/Chicago:20230908T143000
DTEND;TZID=America/Chicago:20230908T153000
DTSTAMP:20260423T105815
CREATED:20230219T183611Z
LAST-MODIFIED:20230413T170229Z
UID:10000531-1694183400-1694187000@gammelgardenmuseum.org
SUMMARY:Tour - 2:30 p.m.
DESCRIPTION:Tours will be held on Friday and Saturday at 10:30 AM\, 1:00 PM\, and 2:30 PM; and on Sunday at 1:00 PM and 2:30 PM. \nRates: \n$10 Admission/Tour \n$9 Admission/Tour for Military (Active\, Retired\, and Veterans) and Time Travelers Members \nFree Admission/Tour for Gammelgården Members\, ASI Current Members\, and Children under 12 \nReservations are not required. \nFor group tours and school field trips\, please visit https://gammelgardenmuseum.org/tours/ for more information and to book a tour. Reservations are required for group tours and school field trips. 
URL:https://gammelgardenmuseum.org/event/tour-230-p-m-2/2023-09-08/
LOCATION:Gammelgarden Museum of Scandia\, 20880 Olinda Trail North\, Scandia\, MN\, 55073\, United States
ATTACH;FMTTYPE=image/jpeg:https://gammelgardenmuseum.org/wp-content/uploads/2023/02/Tour-Eleanor.jpg
END:VEVENT
END:VCALENDAR