BEGIN:VCALENDAR
VERSION:2.0
PRODID:-//Gammelgården Museum - ECPv6.15.20//NONSGML v1.0//EN
CALSCALE:GREGORIAN
METHOD:PUBLISH
X-WR-CALNAME:Gammelgården Museum
X-ORIGINAL-URL:https://gammelgardenmuseum.org
X-WR-CALDESC:Events for Gammelgården Museum
REFRESH-INTERVAL;VALUE=DURATION:PT1H
X-Robots-Tag:noindex
X-PUBLISHED-TTL:PT1H
BEGIN:VTIMEZONE
TZID:America/Chicago
BEGIN:DAYLIGHT
TZOFFSETFROM:-0600
TZOFFSETTO:-0500
TZNAME:CDT
DTSTART:20220313T080000
END:DAYLIGHT
BEGIN:STANDARD
TZOFFSETFROM:-0500
TZOFFSETTO:-0600
TZNAME:CST
DTSTART:20221106T070000
END:STANDARD
BEGIN:DAYLIGHT
TZOFFSETFROM:-0600
TZOFFSETTO:-0500
TZNAME:CDT
DTSTART:20230312T080000
END:DAYLIGHT
BEGIN:STANDARD
TZOFFSETFROM:-0500
TZOFFSETTO:-0600
TZNAME:CST
DTSTART:20231105T070000
END:STANDARD
BEGIN:DAYLIGHT
TZOFFSETFROM:-0600
TZOFFSETTO:-0500
TZNAME:CDT
DTSTART:20240310T080000
END:DAYLIGHT
BEGIN:STANDARD
TZOFFSETFROM:-0500
TZOFFSETTO:-0600
TZNAME:CST
DTSTART:20241103T070000
END:STANDARD
END:VTIMEZONE
BEGIN:VEVENT
DTSTART;VALUE=DATE:20230828
DTEND;VALUE=DATE:20230911
DTSTAMP:20260423T123512
CREATED:20230514T230150Z
LAST-MODIFIED:20230720T233629Z
UID:10000566-1693180800-1694390399@gammelgardenmuseum.org
SUMMARY:Tomte Community Art Show
DESCRIPTION:See the decorated tomtes on the tennis court fence at the Barton Johnson Memorial Park (adjacent to Gammelgarden Museum of Scandia). The tomtes are decorated by people in the community – from young children to adults.
URL:https://gammelgardenmuseum.org/event/tomte-community-art-show/
LOCATION:Gammelgarden Museum of Scandia\, 20880 Olinda Trail North\, Scandia\, MN\, 55073\, United States
END:VEVENT
BEGIN:VEVENT
DTSTART;VALUE=DATE:20230903
DTEND;VALUE=DATE:20230918
DTSTAMP:20260423T123512
CREATED:20230903T222454Z
LAST-MODIFIED:20230903T222454Z
UID:10000592-1693699200-1694995199@gammelgardenmuseum.org
SUMMARY:Pop-Up Exhibit: Swedish Tomtes in Photography\, Wood\, and Ceramics
DESCRIPTION:See a variety of Swedish tomtes featured in photography by two photographers living in Mellerud\, Sweden combined with tomtes in Gammelgården’s collection. \nThere are ten photographs created by Rolf Linder and Tanja Mueller. Surrounding the photographs are 23 tomtes and other items to create scenes to complement Mr. Linder’s and Ms. Mueller’s images.
URL:https://gammelgardenmuseum.org/event/pop-up-exhibit-swedish-tomtes-in-photography-wood-and-ceramics/
LOCATION:Gammelgarden Museum of Scandia\, 20880 Olinda Trail North\, Scandia\, MN\, 55073\, United States
ATTACH;FMTTYPE=image/jpeg:https://gammelgardenmuseum.org/wp-content/uploads/2023/08/Tanja-Mueller-Mellerud-Tomtar-IMG_0081-scaled.jpg
END:VEVENT
BEGIN:VEVENT
DTSTART;TZID=America/Chicago:20230910T130000
DTEND;TZID=America/Chicago:20230910T140000
DTSTAMP:20260423T123512
CREATED:20230218T144134Z
LAST-MODIFIED:20230413T170320Z
UID:10000356-1694350800-1694354400@gammelgardenmuseum.org
SUMMARY:Tour - 1:00 p.m.
DESCRIPTION:Tours will be held on Friday and Saturday at 10:30 AM\, 1:00 PM\, and 2:30 PM; and on Sunday at 1:00 PM and 2:30 PM. \nRates: \n$10 Admission/Tour \n$9 Admission/Tour for Military (Active\, Retired\, and Veterans) and Time Travelers Members \nFree Admission/Tour for Gammelgården Members\, ASI Current Members\, and Children under 12 \nReservations are not required. \nFor group tours and school field trips\, please visit https://gammelgardenmuseum.org/tours/ for more information and to book a tour. Reservations are required for group tours and school field trips. 
URL:https://gammelgardenmuseum.org/event/tour-130-p-m-3/2023-09-10/
LOCATION:Gammelgarden Museum of Scandia\, 20880 Olinda Trail North\, Scandia\, MN\, 55073\, United States
ATTACH;FMTTYPE=image/jpeg:https://gammelgardenmuseum.org/wp-content/uploads/2023/02/Tour-Children-by-Laundry.jpg
END:VEVENT
BEGIN:VEVENT
DTSTART;TZID=America/Chicago:20230910T130000
DTEND;TZID=America/Chicago:20230910T160000
DTSTAMP:20260423T123512
CREATED:20230323T012810Z
LAST-MODIFIED:20230421T003928Z
UID:10000560-1694350800-1694361600@gammelgardenmuseum.org
SUMMARY:Pick-up Tomte (Community Art Show)
DESCRIPTION:Receive a blank wooden tomte that can be painted or decorated any way you like. Have your artwork displayed on the tennis court fence at Barton Johnson Memorial Park (adjacent to Gammelgården Museum) from mid-August to the day after Taco Daze. \nOffered: Wooden tomtes are available for pick-up on Friday\, July 21. Artwork is due on Friday\, August 11. The painted and decorated tomtes are displayed from Friday\, August 18 to Sunday\, September 10. Tomtes are available for pick-up on September 10 after 1 p.m. \nAges: All ages. \nFee: $20 per blank wooden tomte to help support children’s programs\, and keep the costs affordable and accessible. \nRegister at: https://tinyurl.com/paintatomte \nRegistration Deadline: Friday\, July 7 to reserve a tomte.
URL:https://gammelgardenmuseum.org/event/pick-up-tomte-community-art-show/
LOCATION:Gammelgarden Museum of Scandia\, 20880 Olinda Trail North\, Scandia\, MN\, 55073\, United States
CATEGORIES:Youth
ATTACH;FMTTYPE=image/webp:https://gammelgardenmuseum.org/wp-content/uploads/2023/03/Tomte-Image.webp
END:VEVENT
BEGIN:VEVENT
DTSTART;TZID=America/Chicago:20230910T143000
DTEND;TZID=America/Chicago:20230910T153000
DTSTAMP:20260423T123512
CREATED:20230218T144028Z
LAST-MODIFIED:20230413T170403Z
UID:10000431-1694356200-1694359800@gammelgardenmuseum.org
SUMMARY:Tour - 2:30 p.m.
DESCRIPTION:Tours will be held on Friday and Saturday at 10:30 AM\, 1:00 PM\, and 2:30 PM; and on Sunday at 1:00 PM and 2:30 PM. \nRates: \n$10 Admission/Tour \n$9 Admission/Tour for Military (Active\, Retired\, and Veterans) and Time Travelers Members \nFree Admission/Tour for Gammelgården Members\, ASI Current Members\, and Children under 12 \nReservations are not required. \nFor group tours and school field trips\, please visit https://gammelgardenmuseum.org/tours/ for more information and to book a tour. Reservations are required for group tours and school field trips. 
URL:https://gammelgardenmuseum.org/event/tour-1030-a-m-3/2023-09-10/
LOCATION:Gammelgarden Museum of Scandia\, 20880 Olinda Trail North\, Scandia\, MN\, 55073\, United States
ATTACH;FMTTYPE=image/jpeg:https://gammelgardenmuseum.org/wp-content/uploads/2023/02/Tour-Lynne-in-Barn.jpg
END:VEVENT
END:VCALENDAR