BEGIN:VCALENDAR
VERSION:2.0
PRODID:-//Gammelgården Museum - ECPv6.15.20//NONSGML v1.0//EN
CALSCALE:GREGORIAN
METHOD:PUBLISH
X-ORIGINAL-URL:https://gammelgardenmuseum.org
X-WR-CALDESC:Events for Gammelgården Museum
REFRESH-INTERVAL;VALUE=DURATION:PT1H
X-Robots-Tag:noindex
X-PUBLISHED-TTL:PT1H
BEGIN:VTIMEZONE
TZID:America/Chicago
BEGIN:DAYLIGHT
TZOFFSETFROM:-0600
TZOFFSETTO:-0500
TZNAME:CDT
DTSTART:20220313T080000
END:DAYLIGHT
BEGIN:STANDARD
TZOFFSETFROM:-0500
TZOFFSETTO:-0600
TZNAME:CST
DTSTART:20221106T070000
END:STANDARD
BEGIN:DAYLIGHT
TZOFFSETFROM:-0600
TZOFFSETTO:-0500
TZNAME:CDT
DTSTART:20230312T080000
END:DAYLIGHT
BEGIN:STANDARD
TZOFFSETFROM:-0500
TZOFFSETTO:-0600
TZNAME:CST
DTSTART:20231105T070000
END:STANDARD
BEGIN:DAYLIGHT
TZOFFSETFROM:-0600
TZOFFSETTO:-0500
TZNAME:CDT
DTSTART:20240310T080000
END:DAYLIGHT
BEGIN:STANDARD
TZOFFSETFROM:-0500
TZOFFSETTO:-0600
TZNAME:CST
DTSTART:20241103T070000
END:STANDARD
END:VTIMEZONE
BEGIN:VEVENT
DTSTART;VALUE=DATE:20230903
DTEND;VALUE=DATE:20230918
DTSTAMP:20260423T105906
CREATED:20230903T222454Z
LAST-MODIFIED:20230903T222454Z
UID:10000592-1693699200-1694995199@gammelgardenmuseum.org
SUMMARY:Pop-Up Exhibit: Swedish Tomtes in Photography\, Wood\, and Ceramics
DESCRIPTION:See a variety of Swedish tomtes featured in photography by two photographers living in Mellerud\, Sweden combined with tomtes in Gammelgården’s collection. \nThere are ten photographs created by Rolf Linder and Tanja Mueller. Surrounding the photographs are 23 tomtes and other items to create scenes to complement Mr. Linder’s and Ms. Mueller’s images.
URL:https://gammelgardenmuseum.org/event/pop-up-exhibit-swedish-tomtes-in-photography-wood-and-ceramics/
LOCATION:Gammelgarden Museum of Scandia\, 20880 Olinda Trail North\, Scandia\, MN\, 55073\, United States
ATTACH;FMTTYPE=image/jpeg:https://gammelgardenmuseum.org/wp-content/uploads/2023/08/Tanja-Mueller-Mellerud-Tomtar-IMG_0081-scaled.jpg
END:VEVENT
BEGIN:VEVENT
DTSTART;TZID=America/Chicago:20230916T100000
DTEND;TZID=America/Chicago:20230916T130000
DTSTAMP:20260423T105906
CREATED:20230906T150136Z
LAST-MODIFIED:20230906T150235Z
UID:10000593-1694858400-1694869200@gammelgardenmuseum.org
SUMMARY:Swedish Huck Weaving - Morning Class
DESCRIPTION:Swedish Huck Weaving is a fairly simple surface needlework technique that blends surface embroidery with weaving and produces seemingly complex geometric and linear designs on a particular type of fabric. Its origin is unclear\, perhaps dating to the 1600s\, but it was especially popular during the 1930s–1950s and is now enjoying a resurgence of interest. \nIn this 3-hour workshop\, students will learn its history\, various types of fabrics and threads used\, how to prepare the cloth and thread\, how to weave the fabric using traditional methods\, and how and where to select patterns and supplies for future work. Students will go home with a dish towel they’ve embellished from a design provided by the instructor. \nSkill level: No experience is needed. \nStudent Age: 12 years and over. \nSupplies needed: The instructor will provide all materials. \nMaterials fee (included in class fee): $16 per student for the towel blank\, needles\, pattern\, and enough embroidery thread to weave a border. \nRegister here: https://www.eventbrite.com/e/beginning-swedish-huck-weaving-tickets-636113662087 \nCancellation Policy: Up to 3 weeks before the event – 50% refund. Under 3 weeks before the event\, no refunds.
URL:https://gammelgardenmuseum.org/event/swedish-huck-weaving-morning-class/
LOCATION:Gammelgarden Museum of Scandia\, 20880 Olinda Trail North\, Scandia\, MN\, 55073\, United States
ATTACH;FMTTYPE=image/jpeg:https://gammelgardenmuseum.org/wp-content/uploads/2023/02/SwedishHuckWeaving.jpg
END:VEVENT
BEGIN:VEVENT
DTSTART;TZID=America/Chicago:20230916T103000
DTEND;TZID=America/Chicago:20230916T113000
DTSTAMP:20260423T105906
CREATED:20230218T143344Z
LAST-MODIFIED:20230414T012145Z
UID:10000203-1694860200-1694863800@gammelgardenmuseum.org
SUMMARY:Tour - 10:30 a.m.
DESCRIPTION:Tours will be held on Friday and Saturday at 10:30 AM\, 1:00 PM\, and 2:30 PM; and on Sunday at 1:00 PM and 2:30 PM. \nRates: \n$10 Admission/Tour \n$9 Admission/Tour for Military (Active\, Retired\, and Veterans) and Time Travelers Members \nFree Admission/Tour for Gammelgården Members\, ASI Current Members\, and Children under 12 \nReservations are not required. \nFor group tours and school field trips\, please visit https://gammelgardenmuseum.org/tours/ for more information and to book a tour. Reservations are required for group tours and school field trips. 
URL:https://gammelgardenmuseum.org/event/tour-1030-a-m-2/2023-09-16/
LOCATION:Gammelgarden Museum of Scandia\, 20880 Olinda Trail North\, Scandia\, MN\, 55073\, United States
ATTACH;FMTTYPE=image/jpeg:https://gammelgardenmuseum.org/wp-content/uploads/2023/02/Tours-in-Costume.jpg
END:VEVENT
BEGIN:VEVENT
DTSTART;TZID=America/Chicago:20230916T130000
DTEND;TZID=America/Chicago:20230916T140000
DTSTAMP:20260423T105906
CREATED:20230218T143616Z
LAST-MODIFIED:20230413T170436Z
UID:10000382-1694869200-1694872800@gammelgardenmuseum.org
SUMMARY:Tour - 1:00 p.m.
DESCRIPTION:Tours will be held on Friday and Saturday at 10:30 AM\, 1:00 PM\, and 2:30 PM; and on Sunday at 1:00 PM and 2:30 PM. \nRates: \n$10 Admission/Tour \n$9 Admission/Tour for Military (Active\, Retired\, and Veterans) and Time Travelers Members \nFree Admission/Tour for Gammelgården Members\, ASI Current Members\, and Children under 12 \nReservations are not required. \nFor group tours and school field trips\, please visit https://gammelgardenmuseum.org/tours/ for more information and to book a tour. Reservations are required for group tours and school field trips. 
URL:https://gammelgardenmuseum.org/event/tour-130-p-m-2/2023-09-16/
LOCATION:MN
ATTACH;FMTTYPE=image/jpeg:https://gammelgardenmuseum.org/wp-content/uploads/2023/02/Tour-Lynne-in-Church.jpg
END:VEVENT
BEGIN:VEVENT
DTSTART;TZID=America/Chicago:20230916T133000
DTEND;TZID=America/Chicago:20230916T163000
DTSTAMP:20260423T105906
CREATED:20230218T232444Z
LAST-MODIFIED:20230725T174503Z
UID:10000311-1694871000-1694881800@gammelgardenmuseum.org
SUMMARY:Swedish Huck Weaving
DESCRIPTION:Swedish Huck Weaving is a fairly simple surface needlework technique that blends surface embroidery with weaving and produces seemingly complex geometric and linear designs on a particular type of fabric. Its origin is unclear\, perhaps dating to the 1600s\, but it was especially popular during the 1930s–1950s and is now enjoying a resurgence of interest. \nIn this 3-hour workshop\, students will learn its history\, various types of fabrics and threads used\, how to prepare the cloth and thread\, how to weave the fabric using traditional methods\, and how and where to select patterns and supplies for future work. Students will go home with a dish towel they’ve embellished from a design provided by the instructor. \nSkill level: No experience is needed. \nStudent Age: 12 years and over. \nSupplies needed: The instructor will provide all materials. \nMaterials fee (included in class fee): $16 per student for the towel blank\, needles\, pattern\, and enough embroidery thread to weave a border. \nRegister here: https://www.eventbrite.com/e/beginning-swedish-huck-weaving-tickets-636113662087 \nCancellation Policy: Up to 3 weeks before the event – 50% refund. Under 3 weeks before the event\, no refunds.
URL:https://gammelgardenmuseum.org/event/swedish-huck-weaving/
LOCATION:Gammelgarden Museum of Scandia\, 20880 Olinda Trail North\, Scandia\, MN\, 55073\, United States
ATTACH;FMTTYPE=image/jpeg:https://gammelgardenmuseum.org/wp-content/uploads/2023/02/SwedishHuckWeaving.jpg
END:VEVENT
BEGIN:VEVENT
DTSTART;TZID=America/Chicago:20230916T143000
DTEND;TZID=America/Chicago:20230916T153000
DTSTAMP:20260423T105906
CREATED:20230219T182718Z
LAST-MODIFIED:20230413T170257Z
UID:10000482-1694874600-1694878200@gammelgardenmuseum.org
SUMMARY:Tour - 2:30 p.m.
DESCRIPTION:Tours will be held on Friday and Saturday at 10:30 AM\, 1:00 PM\, and 2:30 PM; and on Sunday at 1:00 PM and 2:30 PM. \nRates: \n$10 Admission/Tour \n$9 Admission/Tour for Military (Active\, Retired\, and Veterans) and Time Travelers Members \nFree Admission/Tour for Gammelgården Members\, ASI Current Members\, and Children under 12 \nReservations are not required. \nFor group tours and school field trips\, please visit https://gammelgardenmuseum.org/tours/ for more information and to book a tour. Reservations are required for group tours and school field trips. 
URL:https://gammelgardenmuseum.org/event/tour-230-p-m/2023-09-16/
LOCATION:MN
ATTACH;FMTTYPE=image/jpeg:https://gammelgardenmuseum.org/wp-content/uploads/2023/02/Sophia-Tour-Guide.jpg
END:VEVENT
END:VCALENDAR