BEGIN:VCALENDAR
VERSION:2.0
PRODID:-//Gammelgården Museum - ECPv6.15.20//NONSGML v1.0//EN
CALSCALE:GREGORIAN
METHOD:PUBLISH
X-ORIGINAL-URL:https://gammelgardenmuseum.org
X-WR-CALDESC:Events for Gammelgården Museum
REFRESH-INTERVAL;VALUE=DURATION:PT1H
X-Robots-Tag:noindex
X-PUBLISHED-TTL:PT1H
BEGIN:VTIMEZONE
TZID:America/Chicago
BEGIN:DAYLIGHT
TZOFFSETFROM:-0600
TZOFFSETTO:-0500
TZNAME:CDT
DTSTART:20220313T080000
END:DAYLIGHT
BEGIN:STANDARD
TZOFFSETFROM:-0500
TZOFFSETTO:-0600
TZNAME:CST
DTSTART:20221106T070000
END:STANDARD
BEGIN:DAYLIGHT
TZOFFSETFROM:-0600
TZOFFSETTO:-0500
TZNAME:CDT
DTSTART:20230312T080000
END:DAYLIGHT
BEGIN:STANDARD
TZOFFSETFROM:-0500
TZOFFSETTO:-0600
TZNAME:CST
DTSTART:20231105T070000
END:STANDARD
BEGIN:DAYLIGHT
TZOFFSETFROM:-0600
TZOFFSETTO:-0500
TZNAME:CDT
DTSTART:20240310T080000
END:DAYLIGHT
BEGIN:STANDARD
TZOFFSETFROM:-0500
TZOFFSETTO:-0600
TZNAME:CST
DTSTART:20241103T070000
END:STANDARD
END:VTIMEZONE
BEGIN:VEVENT
DTSTART;TZID=America/Chicago:20230924T130000
DTEND;TZID=America/Chicago:20230924T140000
DTSTAMP:20260423T105751
CREATED:20230218T144134Z
LAST-MODIFIED:20230413T170320Z
UID:10000358-1695560400-1695564000@gammelgardenmuseum.org
SUMMARY:Tour - 1:00 p.m.
DESCRIPTION:Tours will be held on Friday and Saturday at 10:30 AM\, 1:00 PM\, and 2:30 PM; and on Sunday at 1:00 PM and 2:30 PM. \nRates: \n$10 Admission/Tour \n$9 Admission/Tour for Military (Active\, Retired\, and Veterans) and Time Travelers Members \nFree Admission/Tour for Gammelgården Members\, ASI Current Members\, and Children under 12 \nReservations are not required. \nFor group tours and school field trips\, please visit https://gammelgardenmuseum.org/tours/ for more information and to book a tour. Reservations are required for group tours and school field trips. 
URL:https://gammelgardenmuseum.org/event/tour-130-p-m-3/2023-09-24/
LOCATION:Gammelgarden Museum of Scandia\, 20880 Olinda Trail North\, Scandia\, MN\, 55073\, United States
ATTACH;FMTTYPE=image/jpeg:https://gammelgardenmuseum.org/wp-content/uploads/2023/02/Tour-Children-by-Laundry.jpg
END:VEVENT
BEGIN:VEVENT
DTSTART;TZID=America/Chicago:20230924T140000
DTEND;TZID=America/Chicago:20230924T160000
DTSTAMP:20260423T105751
CREATED:20230708T113609Z
LAST-MODIFIED:20230825T133607Z
UID:10000583-1695564000-1695571200@gammelgardenmuseum.org
SUMMARY:Bluegrass & Lemonade in the Shade
DESCRIPTION:Bluegrass and Lemonade in the Shade Flyer \n  \nCome on down for an old-time bluegrass jam session at Gammelgården Museum from 2-4 p.m. on four Sundays – June 25\, July 30\, August 27\, and September 24! \nBring your banjo\, fiddle\, guitar\, cello\, dulcimer\, harmonica\, mandolin\, ukulele\, or bass\, and learn new tunes! Play along\, or just relax and listen in a welcoming atmosphere. \nThere are experienced and new musicians; and people of all ages. \nBest of all…Bluegrass & Lemonade in the Shade is free \n*~*~*~*~*~*~*~*~*~*~*~*~*~*~* \nJam Etiquette \n\nBe polite\, welcoming\, and friendly.\nBe kind to beginners and new jammers – it takes courage to join in and play along!\nPut your instrument cases off to the side and out of the way.\nPlease minimize noodling around between tunes.\nStep out of the circle to tune your instrument or chat with someone.\nHave fun!
URL:https://gammelgardenmuseum.org/event/bluegrass-lemonade-2/2023-09-24/
LOCATION:Gammelgarden Museum of Scandia\, 20880 Olinda Trail North\, Scandia\, MN\, 55073\, United States
ATTACH;FMTTYPE=image/jpeg:https://gammelgardenmuseum.org/wp-content/uploads/2023/01/lemonade.jpg
END:VEVENT
BEGIN:VEVENT
DTSTART;TZID=America/Chicago:20230924T143000
DTEND;TZID=America/Chicago:20230924T153000
DTSTAMP:20260423T105751
CREATED:20230218T144028Z
LAST-MODIFIED:20230413T170403Z
UID:10000433-1695565800-1695569400@gammelgardenmuseum.org
SUMMARY:Tour - 2:30 p.m.
DESCRIPTION:Tours will be held on Friday and Saturday at 10:30 AM\, 1:00 PM\, and 2:30 PM; and on Sunday at 1:00 PM and 2:30 PM. \nRates: \n$10 Admission/Tour \n$9 Admission/Tour for Military (Active\, Retired\, and Veterans) and Time Travelers Members \nFree Admission/Tour for Gammelgården Members\, ASI Current Members\, and Children under 12 \nReservations are not required. \nFor group tours and school field trips\, please visit https://gammelgardenmuseum.org/tours/ for more information and to book a tour. Reservations are required for group tours and school field trips. 
URL:https://gammelgardenmuseum.org/event/tour-1030-a-m-3/2023-09-24/
LOCATION:Gammelgarden Museum of Scandia\, 20880 Olinda Trail North\, Scandia\, MN\, 55073\, United States
ATTACH;FMTTYPE=image/jpeg:https://gammelgardenmuseum.org/wp-content/uploads/2023/02/Tour-Lynne-in-Barn.jpg
END:VEVENT
END:VCALENDAR