BEGIN:VCALENDAR
VERSION:2.0
PRODID:-//Gammelgården Museum - ECPv6.15.20//NONSGML v1.0//EN
CALSCALE:GREGORIAN
METHOD:PUBLISH
X-WR-CALNAME:Gammelgården Museum
X-ORIGINAL-URL:https://gammelgardenmuseum.org
X-WR-CALDESC:Events for Gammelgården Museum
REFRESH-INTERVAL;VALUE=DURATION:PT1H
X-Robots-Tag:noindex
X-PUBLISHED-TTL:PT1H
BEGIN:VTIMEZONE
TZID:America/Chicago
BEGIN:DAYLIGHT
TZOFFSETFROM:-0600
TZOFFSETTO:-0500
TZNAME:CDT
DTSTART:20230312T080000
END:DAYLIGHT
BEGIN:STANDARD
TZOFFSETFROM:-0500
TZOFFSETTO:-0600
TZNAME:CST
DTSTART:20231105T070000
END:STANDARD
BEGIN:DAYLIGHT
TZOFFSETFROM:-0600
TZOFFSETTO:-0500
TZNAME:CDT
DTSTART:20240310T080000
END:DAYLIGHT
BEGIN:STANDARD
TZOFFSETFROM:-0500
TZOFFSETTO:-0600
TZNAME:CST
DTSTART:20241103T070000
END:STANDARD
BEGIN:DAYLIGHT
TZOFFSETFROM:-0600
TZOFFSETTO:-0500
TZNAME:CDT
DTSTART:20250309T080000
END:DAYLIGHT
BEGIN:STANDARD
TZOFFSETFROM:-0500
TZOFFSETTO:-0600
TZNAME:CST
DTSTART:20251102T070000
END:STANDARD
END:VTIMEZONE
BEGIN:VEVENT
DTSTART;TZID=America/Chicago:20240310T130000
DTEND;TZID=America/Chicago:20240310T160000
DTSTAMP:20260425T100435
CREATED:20231209T015841Z
LAST-MODIFIED:20240122T033601Z
UID:10000616-1710075600-1710086400@gammelgardenmuseum.org
SUMMARY:Needlefelted Easter Eggs - Painting with Wool
DESCRIPTION:“Egg-cited” for springtime?  This needlefelting class is a great way to celebrate spring by creating decorative felted Easter Eggs.  We’ll start with a rigid foam egg base\, which we’ll cover in colorful wool from the instructor’s flock of sheep.  Laura will then show you a variety of techniques for decorating your eggs with adorable little birds or animals and different types of springtime flowers.\nBring your creative imagination\, and enjoy seasonal egg decorating in a whole new medium. Ahead of class\, Laura will mail you a kit\, which includes all the supplies you need for the class\, including foam work surface\, felting needles\, and plenty of colorful wool. The kit includes enough materials to make two decorative eggs. \nJoin us for this welcoming class! \n \nRequired Tools\nStudents will receive a package of materials ahead of time with all supplies needed. Kits can either be picked up March 6-8 at Gammelgården or\, for an extra $10 fee\, be shipped to you. \nRegistration Information\nTo register for the class\, visit: http://tinyurl.com/needlefeltedeastereggs \n \nAbout the Artist\nLaura is a contemporary Renaissance woman living and working on her family’s century-old homestead farm outside Hayward\, WI. From fiber arts to creative writing\, music to storytelling\, she never tires of the magic of transforming idea into form and overlapping narrative and visual. Laura also loves working with the many and beautiful natural materials from her farm—especially the wool from her sheep. Completing her MFA in Interdisciplinary Arts at Goddard College in 2011\, Laura continues her lifelong passion for learning with mentorships and intensives that offer engaged\, hands-on teaching with small groups to encourage creativity\, imagination\, and expression.
URL:https://gammelgardenmuseum.org/event/needlefelted-easter-eggs-painting-with-wool/
LOCATION:Virtual
ATTACH;FMTTYPE=image/jpeg:https://gammelgardenmuseum.org/wp-content/uploads/2023/12/Needle-Felted-Easter-Eggs-1.jpg
END:VEVENT
END:VCALENDAR