BEGIN:VCALENDAR
VERSION:2.0
PRODID:-//Gammelgården Museum - ECPv6.15.20//NONSGML v1.0//EN
CALSCALE:GREGORIAN
METHOD:PUBLISH
X-WR-CALNAME:Gammelgården Museum
X-ORIGINAL-URL:https://gammelgardenmuseum.org
X-WR-CALDESC:Events for Gammelgården Museum
REFRESH-INTERVAL;VALUE=DURATION:PT1H
X-Robots-Tag:noindex
X-PUBLISHED-TTL:PT1H
BEGIN:VTIMEZONE
TZID:America/Chicago
BEGIN:DAYLIGHT
TZOFFSETFROM:-0600
TZOFFSETTO:-0500
TZNAME:CDT
DTSTART:20230312T080000
END:DAYLIGHT
BEGIN:STANDARD
TZOFFSETFROM:-0500
TZOFFSETTO:-0600
TZNAME:CST
DTSTART:20231105T070000
END:STANDARD
BEGIN:DAYLIGHT
TZOFFSETFROM:-0600
TZOFFSETTO:-0500
TZNAME:CDT
DTSTART:20240310T080000
END:DAYLIGHT
BEGIN:STANDARD
TZOFFSETFROM:-0500
TZOFFSETTO:-0600
TZNAME:CST
DTSTART:20241103T070000
END:STANDARD
BEGIN:DAYLIGHT
TZOFFSETFROM:-0600
TZOFFSETTO:-0500
TZNAME:CDT
DTSTART:20250309T080000
END:DAYLIGHT
BEGIN:STANDARD
TZOFFSETFROM:-0500
TZOFFSETTO:-0600
TZNAME:CST
DTSTART:20251102T070000
END:STANDARD
END:VTIMEZONE
BEGIN:VEVENT
DTSTART;VALUE=DATE:20240420
DTEND;VALUE=DATE:20240429
DTSTAMP:20260423T103704
CREATED:20240325T180628Z
LAST-MODIFIED:20240325T180702Z
UID:10000891-1713571200-1714348799@gammelgardenmuseum.org
SUMMARY:Spring Into Action - Online Auction
DESCRIPTION:Gammelgården Museum will be having an online auction from April 20-28\, 2024! This is your opportunity to bid on a variety of items:\n– products\, gift cards\, books\, artwork\, tickets to experiences\, or services from businesses.\n– items that have been previously-used\, but are in excellent condition (e.g.\, Swedish glass\, antiques\, textiles).\n– handmade items (e.g.\, quilts\, embroidered items).\n– gift baskets. \nAll monies raised from the online auction support the museum’s collection which consists of over 3\,300 artifacts. Funds from the online auction will help secure museum-quality storage for the artifacts\, and be used to restore or repair those artifacts needing immediate attention. \nThe link to the auction will be posted in early-April. You can help support it not only by donating items\, but by making a cash donation\, sharing the event with family and friends\, and bidding when the auction goes live. We are looking forward to a great event!! \nBidding opens at 12:00 noon on April 20th and will close on April 28th at 11:59 pm. \n \n 
URL:https://gammelgardenmuseum.org/event/spring-into-action-online-auction/
LOCATION:Virtual
ATTACH;FMTTYPE=image/jpeg:https://gammelgardenmuseum.org/wp-content/uploads/2024/03/Bid-on-a-variety-of-items-while-supporting-Gammelgarden-Museum.jpg
END:VEVENT
END:VCALENDAR