BEGIN:VCALENDAR
VERSION:2.0
PRODID:-//Gammelgården Museum - ECPv6.15.20//NONSGML v1.0//EN
CALSCALE:GREGORIAN
METHOD:PUBLISH
X-ORIGINAL-URL:https://gammelgardenmuseum.org
X-WR-CALDESC:Events for Gammelgården Museum
REFRESH-INTERVAL;VALUE=DURATION:PT1H
X-Robots-Tag:noindex
X-PUBLISHED-TTL:PT1H
BEGIN:VTIMEZONE
TZID:America/Chicago
BEGIN:DAYLIGHT
TZOFFSETFROM:-0600
TZOFFSETTO:-0500
TZNAME:CDT
DTSTART:20230312T080000
END:DAYLIGHT
BEGIN:STANDARD
TZOFFSETFROM:-0500
TZOFFSETTO:-0600
TZNAME:CST
DTSTART:20231105T070000
END:STANDARD
BEGIN:DAYLIGHT
TZOFFSETFROM:-0600
TZOFFSETTO:-0500
TZNAME:CDT
DTSTART:20240310T080000
END:DAYLIGHT
BEGIN:STANDARD
TZOFFSETFROM:-0500
TZOFFSETTO:-0600
TZNAME:CST
DTSTART:20241103T070000
END:STANDARD
BEGIN:DAYLIGHT
TZOFFSETFROM:-0600
TZOFFSETTO:-0500
TZNAME:CDT
DTSTART:20250309T080000
END:DAYLIGHT
BEGIN:STANDARD
TZOFFSETFROM:-0500
TZOFFSETTO:-0600
TZNAME:CST
DTSTART:20251102T070000
END:STANDARD
END:VTIMEZONE
BEGIN:VEVENT
DTSTART;TZID=America/Chicago:20241120T120000
DTEND;TZID=America/Chicago:20241120T150000
DTSTAMP:20260421T064637
CREATED:20241120T033915Z
LAST-MODIFIED:20241120T033943Z
UID:10000913-1732104000-1732114800@gammelgardenmuseum.org
SUMMARY:Krown Bakery & Eatery Pop-Up Shop at Gammelgården Museum
DESCRIPTION:Krown Bakery & Eatery will be at Gammelgården Museum on Wednesday\, November 20th from 12-3 p.m.\nThere will be items for sale as well as pre-orders. For pre-orders\, please call Krown Bakery at 763-427-0506 to place and pay for your order.\nThe items that will be available for the pre-orders and on-site sales are:\n– Swedish Rye Bread (Limpa)– Cardamom Braid– Lavender Cookie 4-Packs– Oatmeal Cardamom 4-Packs– Gluten-free Thumbprint Cookie 4-Packs– Nordic Cookie Box (Assortment of 24 Cookies)\nAll the items that will be offered for pre-orders and on-site sales freeze very well for anyone who intends to eat their baked goods for Thanksgiving.\nThis is your opportunity to get a variety of Swedish and Scandinavian baked goods just in time for the holiday season!
URL:https://gammelgardenmuseum.org/event/krown-pop-up-bakery-shop/
LOCATION:Gammelgarden Museum of Scandia\, 20880 Olinda Trail North\, Scandia\, MN\, 55073\, United States
END:VEVENT
END:VCALENDAR