BEGIN:VCALENDAR
VERSION:2.0
PRODID:-//Gammelgården Museum - ECPv6.15.20//NONSGML v1.0//EN
CALSCALE:GREGORIAN
METHOD:PUBLISH
X-WR-CALNAME:Gammelgården Museum
X-ORIGINAL-URL:https://gammelgardenmuseum.org
X-WR-CALDESC:Events for Gammelgården Museum
REFRESH-INTERVAL;VALUE=DURATION:PT1H
X-Robots-Tag:noindex
X-PUBLISHED-TTL:PT1H
BEGIN:VTIMEZONE
TZID:America/Chicago
BEGIN:DAYLIGHT
TZOFFSETFROM:-0600
TZOFFSETTO:-0500
TZNAME:CDT
DTSTART:20240310T080000
END:DAYLIGHT
BEGIN:STANDARD
TZOFFSETFROM:-0500
TZOFFSETTO:-0600
TZNAME:CST
DTSTART:20241103T070000
END:STANDARD
BEGIN:DAYLIGHT
TZOFFSETFROM:-0600
TZOFFSETTO:-0500
TZNAME:CDT
DTSTART:20250309T080000
END:DAYLIGHT
BEGIN:STANDARD
TZOFFSETFROM:-0500
TZOFFSETTO:-0600
TZNAME:CST
DTSTART:20251102T070000
END:STANDARD
BEGIN:DAYLIGHT
TZOFFSETFROM:-0600
TZOFFSETTO:-0500
TZNAME:CDT
DTSTART:20260308T080000
END:DAYLIGHT
BEGIN:STANDARD
TZOFFSETFROM:-0500
TZOFFSETTO:-0600
TZNAME:CST
DTSTART:20261101T070000
END:STANDARD
END:VTIMEZONE
BEGIN:VEVENT
DTSTART;TZID=America/Chicago:20250911T103000
DTEND;TZID=America/Chicago:20250911T110000
DTSTAMP:20260420T064409
CREATED:20250524T183937Z
LAST-MODIFIED:20250524T203502Z
UID:10001421-1757586600-1757588400@gammelgardenmuseum.org
SUMMARY:Children's Storytime
DESCRIPTION:New to Gammelgården this year is children’s storytime! This program will be hosted weekly on Thursday’s at 10:30 am in the classroom upstairs.\n\nThis is a great opportunity for you and your family to partake in early literacy in your community. Early literacy programs are not designed to teach young children how to read\, rather they focus on developing skills through stories. \n\nStorytime is designed to introduce your little one to stories\, songs\, rhyming\, and other kids. Storytime often includes one to two read-alouds with one to two interactive songs\, rhymes\, or activities.\n\nStorytime will be hosted by Grace Taylor. Grace will graduate with a Master’s in Library and Information Sciences from St. Kate’s in August 2025 and has taken multiple courses in Children’s Materials and Services.
URL:https://gammelgardenmuseum.org/event/childrens-storytime/2025-09-11/
LOCATION:Gammelgarden Museum of Scandia\, 20880 Olinda Trail North\, Scandia\, MN\, 55073\, United States
ATTACH;FMTTYPE=image/png:https://gammelgardenmuseum.org/wp-content/uploads/2025/05/INTERNATIONAL-1.png
END:VEVENT
END:VCALENDAR