BEGIN:VCALENDAR
VERSION:2.0
PRODID:-//Gammelgården Museum - ECPv6.15.20//NONSGML v1.0//EN
CALSCALE:GREGORIAN
METHOD:PUBLISH
X-WR-CALNAME:Gammelgården Museum
X-ORIGINAL-URL:https://gammelgardenmuseum.org
X-WR-CALDESC:Events for Gammelgården Museum
REFRESH-INTERVAL;VALUE=DURATION:PT1H
X-Robots-Tag:noindex
X-PUBLISHED-TTL:PT1H
BEGIN:VTIMEZONE
TZID:America/Chicago
BEGIN:DAYLIGHT
TZOFFSETFROM:-0600
TZOFFSETTO:-0500
TZNAME:CDT
DTSTART:20240310T080000
END:DAYLIGHT
BEGIN:STANDARD
TZOFFSETFROM:-0500
TZOFFSETTO:-0600
TZNAME:CST
DTSTART:20241103T070000
END:STANDARD
BEGIN:DAYLIGHT
TZOFFSETFROM:-0600
TZOFFSETTO:-0500
TZNAME:CDT
DTSTART:20250309T080000
END:DAYLIGHT
BEGIN:STANDARD
TZOFFSETFROM:-0500
TZOFFSETTO:-0600
TZNAME:CST
DTSTART:20251102T070000
END:STANDARD
BEGIN:DAYLIGHT
TZOFFSETFROM:-0600
TZOFFSETTO:-0500
TZNAME:CDT
DTSTART:20260308T080000
END:DAYLIGHT
BEGIN:STANDARD
TZOFFSETFROM:-0500
TZOFFSETTO:-0600
TZNAME:CST
DTSTART:20261101T070000
END:STANDARD
END:VTIMEZONE
BEGIN:VEVENT
DTSTART;VALUE=DATE:20250923
DTEND;VALUE=DATE:20251002
DTSTAMP:20260421T051235
CREATED:20250809T171211Z
LAST-MODIFIED:20250809T171211Z
UID:10001526-1758585600-1759363199@gammelgardenmuseum.org
SUMMARY:Northern Bedrock Crew at Museum
DESCRIPTION:A crew from Northern Bedrock is at Gammelgården is working on Phase 3 of the restoration of the Pastor’s House which includes removing and replacing logs for the siding of the Pastor’s House.
URL:https://gammelgardenmuseum.org/event/northern-bedrock-at-museum/
LOCATION:Gammelgarden Museum of Scandia\, 20880 Olinda Trail North\, Scandia\, MN\, 55073\, United States
ATTACH;FMTTYPE=image/jpeg:https://gammelgardenmuseum.org/wp-content/uploads/2025/08/Pastors-House-Artifact-Clean-Out-3.jpg
END:VEVENT
BEGIN:VEVENT
DTSTART;TZID=America/Chicago:20250925T100000
DTEND;TZID=America/Chicago:20250925T160000
DTSTAMP:20260421T051235
CREATED:20250705T222807Z
LAST-MODIFIED:20250705T222945Z
UID:10001447-1758794400-1758816000@gammelgardenmuseum.org
SUMMARY:Drop off Donations for the Second-Hand Swedish Sale
DESCRIPTION:Donations of Swedish Items Wanted!\n\n\n\nGammelgården Museum is preparing for its 5th annual Second-Hand Swedish Sale. We are looking for previously used Swedish glass\, ceramics\, linen\, metal\, jewelry\, and holiday items.\n\nDonations may be brought to Gammelgården from September 17th-October 12th on Wednesdays through Saturdays from 10-4 and Sundays from 1-4.\nAll proceeds from the sale benefit the museum’s restoration efforts.
URL:https://gammelgardenmuseum.org/event/drop-off-donations-for-the-second-hand-swedish-sale/2025-09-25/
LOCATION:Gammelgarden Museum of Scandia\, 20880 Olinda Trail North\, Scandia\, MN\, 55073\, United States
ATTACH;FMTTYPE=image/png:https://gammelgardenmuseum.org/wp-content/uploads/2025/07/second-hand-swedish-sale-Donations-Flyer.png
END:VEVENT
BEGIN:VEVENT
DTSTART;TZID=America/Chicago:20250925T103000
DTEND;TZID=America/Chicago:20250925T110000
DTSTAMP:20260421T051235
CREATED:20250524T183937Z
LAST-MODIFIED:20250524T203502Z
UID:10001423-1758796200-1758798000@gammelgardenmuseum.org
SUMMARY:Children's Storytime
DESCRIPTION:New to Gammelgården this year is children’s storytime! This program will be hosted weekly on Thursday’s at 10:30 am in the classroom upstairs.\n\nThis is a great opportunity for you and your family to partake in early literacy in your community. Early literacy programs are not designed to teach young children how to read\, rather they focus on developing skills through stories. \n\nStorytime is designed to introduce your little one to stories\, songs\, rhyming\, and other kids. Storytime often includes one to two read-alouds with one to two interactive songs\, rhymes\, or activities.\n\nStorytime will be hosted by Grace Taylor. Grace will graduate with a Master’s in Library and Information Sciences from St. Kate’s in August 2025 and has taken multiple courses in Children’s Materials and Services.
URL:https://gammelgardenmuseum.org/event/childrens-storytime/2025-09-25/
LOCATION:Gammelgarden Museum of Scandia\, 20880 Olinda Trail North\, Scandia\, MN\, 55073\, United States
ATTACH;FMTTYPE=image/png:https://gammelgardenmuseum.org/wp-content/uploads/2025/05/INTERNATIONAL-1.png
END:VEVENT
END:VCALENDAR