BEGIN:VCALENDAR
VERSION:2.0
PRODID:-//Gammelgården Museum - ECPv6.15.20//NONSGML v1.0//EN
CALSCALE:GREGORIAN
METHOD:PUBLISH
X-WR-CALNAME:Gammelgården Museum
X-ORIGINAL-URL:https://gammelgardenmuseum.org
X-WR-CALDESC:Events for Gammelgården Museum
REFRESH-INTERVAL;VALUE=DURATION:PT1H
X-Robots-Tag:noindex
X-PUBLISHED-TTL:PT1H
BEGIN:VTIMEZONE
TZID:America/Chicago
BEGIN:DAYLIGHT
TZOFFSETFROM:-0600
TZOFFSETTO:-0500
TZNAME:CDT
DTSTART:20250309T080000
END:DAYLIGHT
BEGIN:STANDARD
TZOFFSETFROM:-0500
TZOFFSETTO:-0600
TZNAME:CST
DTSTART:20251102T070000
END:STANDARD
BEGIN:DAYLIGHT
TZOFFSETFROM:-0600
TZOFFSETTO:-0500
TZNAME:CDT
DTSTART:20260308T080000
END:DAYLIGHT
BEGIN:STANDARD
TZOFFSETFROM:-0500
TZOFFSETTO:-0600
TZNAME:CST
DTSTART:20261101T070000
END:STANDARD
BEGIN:DAYLIGHT
TZOFFSETFROM:-0600
TZOFFSETTO:-0500
TZNAME:CDT
DTSTART:20270314T080000
END:DAYLIGHT
BEGIN:STANDARD
TZOFFSETFROM:-0500
TZOFFSETTO:-0600
TZNAME:CST
DTSTART:20271107T070000
END:STANDARD
END:VTIMEZONE
BEGIN:VEVENT
DTSTART;TZID=America/Chicago:20260508T103000
DTEND;TZID=America/Chicago:20260508T120000
DTSTAMP:20260423T195018
CREATED:20260106T193040Z
LAST-MODIFIED:20260123T190456Z
UID:10001563-1778236200-1778241600@gammelgardenmuseum.org
SUMMARY:History & Heritage Book Club
DESCRIPTION:Book Club 2026 \nFrom May through December 2026\, we will be exploring eight books related to Nordic history and heritage; and Swedish lifestyles and traditions. There are both fiction and non-fiction books; and authors from the United States and Sweden. \n  \nJoin other book lovers every second Friday of the month from 10:30 AM – 12:00 PM. The History & Heritage Book Club will be held at Gammelgården Museum at 20880 Olinda Trail North\, Scandia\, MN 55073. Don’t miss this opportunity to connect with others in the community who love to read and want to discover some great books! \n  \n2026 Book List (for a book description\, visit the History & Heritage Book Club group on Facebook: \nMay – The Emigrants by Vilhelm Moberg – Fiction – *F\nJune – Nordic Wisdom – Simplify Your Life by Elisabeth Carolsson – *N\nJuly – Northwomen: Untold Stories from the Other Half of the Viking World – Heather Pringle – F\nAugust – Punished: A Novel – Ann Helen Laestadius – *F\nSeptember – The Place of Tides by James Rebanks – N\nOctober – I Go to America: Swedish America Women and the Life of Mina Anderson by Joy K. Lintelma – N\nNovember – The World of Cajsa Andersdotter: A Close-up View of Sweden in the 18th and 19th Century – Bengt Hallgren – *N\nDecember – Hanna’s Daughters by Marianne Fredriksson – *F \n* – Swedish\, Sámi\, or Swedish-American author\nF – Fiction\nN – Non-Fiction \n  \nPlease let the museum know you will be attending the book club\, by emailing: director@gammelgardenmuseum.org \nPhone: (651) 433-5053 \nFacebook Group: History & Heritage Book Club \n  \n 
URL:https://gammelgardenmuseum.org/event/history-heritage-book-club-may26/
LOCATION:Gammelgarden Museum of Scandia\, 20880 Olinda Trail North\, Scandia\, MN\, 55073\, United States
ATTACH;FMTTYPE=image/png:https://gammelgardenmuseum.org/wp-content/uploads/2025/01/Brown-and-Beige-Vintage-Old-Project-History-A4-Document-Facebook-Post.png
END:VEVENT
BEGIN:VEVENT
DTSTART;TZID=America/Chicago:20260508T114500
DTEND;TZID=America/Chicago:20260508T143000
DTSTAMP:20260423T195018
CREATED:20260404T165656Z
LAST-MODIFIED:20260404T165656Z
UID:10001671-1778240700-1778250600@gammelgardenmuseum.org
SUMMARY:Greeter Gathering
DESCRIPTION:The Greeter Gathering includes a free tour of the buildings\, a walk-through of the main exhibits in the Welcome House (focused on textiles and shoemaking)\, and fika. \nPlease sign up to let us know that you will be attending. Feel free to bring a friend who may be interested in being a greeter (make sure you let us know that person’s name and that they will be joining you).
URL:https://gammelgardenmuseum.org/event/greeter-gathering/
LOCATION:Gammelgarden Museum of Scandia\, 20880 Olinda Trail North\, Scandia\, MN\, 55073\, United States
ATTACH;FMTTYPE=image/jpeg:https://gammelgardenmuseum.org/wp-content/uploads/2026/04/Fika-graphic.jpg
END:VEVENT
END:VCALENDAR