BEGIN:VCALENDAR
VERSION:2.0
PRODID:-//Gammelgården Museum - ECPv6.15.20//NONSGML v1.0//EN
CALSCALE:GREGORIAN
METHOD:PUBLISH
X-ORIGINAL-URL:https://gammelgardenmuseum.org
X-WR-CALDESC:Events for Gammelgården Museum
REFRESH-INTERVAL;VALUE=DURATION:PT1H
X-Robots-Tag:noindex
X-PUBLISHED-TTL:PT1H
BEGIN:VTIMEZONE
TZID:America/Chicago
BEGIN:DAYLIGHT
TZOFFSETFROM:-0600
TZOFFSETTO:-0500
TZNAME:CDT
DTSTART:20250309T080000
END:DAYLIGHT
BEGIN:STANDARD
TZOFFSETFROM:-0500
TZOFFSETTO:-0600
TZNAME:CST
DTSTART:20251102T070000
END:STANDARD
BEGIN:DAYLIGHT
TZOFFSETFROM:-0600
TZOFFSETTO:-0500
TZNAME:CDT
DTSTART:20260308T080000
END:DAYLIGHT
BEGIN:STANDARD
TZOFFSETFROM:-0500
TZOFFSETTO:-0600
TZNAME:CST
DTSTART:20261101T070000
END:STANDARD
BEGIN:DAYLIGHT
TZOFFSETFROM:-0600
TZOFFSETTO:-0500
TZNAME:CDT
DTSTART:20270314T080000
END:DAYLIGHT
BEGIN:STANDARD
TZOFFSETFROM:-0500
TZOFFSETTO:-0600
TZNAME:CST
DTSTART:20271107T070000
END:STANDARD
END:VTIMEZONE
BEGIN:VEVENT
DTSTART;VALUE=DATE:20260531
DTEND;VALUE=DATE:20260601
DTSTAMP:20260425T111330
CREATED:20260126T211117Z
LAST-MODIFIED:20260126T211117Z
UID:10001575-1780185600-1780271999@gammelgardenmuseum.org
SUMMARY:Mors Dag (Mother's Day) in Sweden
DESCRIPTION:Glad Mors Dag (glawd mohrs dawg) or Happy Mother’s Day! \nIn Sweden\, Mother’s Day is celebrated on the last Sunday in May. Mothers in Sweden prefer to receive fresh flowers or gifts\, and breakfast in bed. \nSpend Mother’s Day honoring or remembering your mother by walking the museum grounds\, seeing what’s in bloom\, going on an afternoon tour of the historic buildings\, or seeing the current art exhibit!
URL:https://gammelgardenmuseum.org/event/mors-dag-mothers-day-in-sweden-2026/
LOCATION:MN
ATTACH;FMTTYPE=image/jpeg:https://gammelgardenmuseum.org/wp-content/uploads/2023/05/Happy-Mothers-Day-Blue-Yellow-Flowers.jpg
END:VEVENT
END:VCALENDAR