BEGIN:VCALENDAR
VERSION:2.0
PRODID:-//Gammelgården Museum - ECPv6.15.20//NONSGML v1.0//EN
CALSCALE:GREGORIAN
METHOD:PUBLISH
X-WR-CALNAME:Gammelgården Museum
X-ORIGINAL-URL:https://gammelgardenmuseum.org
X-WR-CALDESC:Events for Gammelgården Museum
REFRESH-INTERVAL;VALUE=DURATION:PT1H
X-Robots-Tag:noindex
X-PUBLISHED-TTL:PT1H
BEGIN:VTIMEZONE
TZID:America/Chicago
BEGIN:DAYLIGHT
TZOFFSETFROM:-0600
TZOFFSETTO:-0500
TZNAME:CDT
DTSTART:20250309T080000
END:DAYLIGHT
BEGIN:STANDARD
TZOFFSETFROM:-0500
TZOFFSETTO:-0600
TZNAME:CST
DTSTART:20251102T070000
END:STANDARD
BEGIN:DAYLIGHT
TZOFFSETFROM:-0600
TZOFFSETTO:-0500
TZNAME:CDT
DTSTART:20260308T080000
END:DAYLIGHT
BEGIN:STANDARD
TZOFFSETFROM:-0500
TZOFFSETTO:-0600
TZNAME:CST
DTSTART:20261101T070000
END:STANDARD
BEGIN:DAYLIGHT
TZOFFSETFROM:-0600
TZOFFSETTO:-0500
TZNAME:CDT
DTSTART:20270314T080000
END:DAYLIGHT
BEGIN:STANDARD
TZOFFSETFROM:-0500
TZOFFSETTO:-0600
TZNAME:CST
DTSTART:20271107T070000
END:STANDARD
END:VTIMEZONE
BEGIN:VEVENT
DTSTART;VALUE=DATE:20260609
DTEND;VALUE=DATE:20260618
DTSTAMP:20260423T211838
CREATED:20260403T173241Z
LAST-MODIFIED:20260403T173241Z
UID:10001608-1780963200-1781740799@gammelgardenmuseum.org
SUMMARY:Northern Bedrock Replaces Logs in the Pastor's House
DESCRIPTION:Three crews from Northern Bedrock will be replacing between 11-14 logs in the Pastor’s House on the northwest and southeast sides of the building. The logs have rotted from age as well as water damage\, and will be replaced by 15 crew members. \nThe logs will be chainsawed to the approximate size. Once that step is complete\, each log will be hand-hewn\, as the Swedish immigrants did to build the Pastor’s Home in the 1800s. \nThe crews arrive on the 9th\, work from the 10th-16th\, and then pack up and travel back to Duluth on the 17th.
URL:https://gammelgardenmuseum.org/event/northern-bedrock-replaces-logs-in-the-pastors-house/
LOCATION:Gammelgarden Museum of Scandia\, 20880 Olinda Trail North\, Scandia\, MN\, 55073\, United States
ATTACH;FMTTYPE=image/jpeg:https://gammelgardenmuseum.org/wp-content/uploads/2026/04/Hand-Hewing.jpg
END:VEVENT
END:VCALENDAR