BEGIN:VCALENDAR
VERSION:2.0
PRODID:-//Gammelgården Museum - ECPv6.15.20//NONSGML v1.0//EN
CALSCALE:GREGORIAN
METHOD:PUBLISH
X-WR-CALNAME:Gammelgården Museum
X-ORIGINAL-URL:https://gammelgardenmuseum.org
X-WR-CALDESC:Events for Gammelgården Museum
REFRESH-INTERVAL;VALUE=DURATION:PT1H
X-Robots-Tag:noindex
X-PUBLISHED-TTL:PT1H
BEGIN:VTIMEZONE
TZID:America/Chicago
BEGIN:DAYLIGHT
TZOFFSETFROM:-0600
TZOFFSETTO:-0500
TZNAME:CDT
DTSTART:20250309T080000
END:DAYLIGHT
BEGIN:STANDARD
TZOFFSETFROM:-0500
TZOFFSETTO:-0600
TZNAME:CST
DTSTART:20251102T070000
END:STANDARD
BEGIN:DAYLIGHT
TZOFFSETFROM:-0600
TZOFFSETTO:-0500
TZNAME:CDT
DTSTART:20260308T080000
END:DAYLIGHT
BEGIN:STANDARD
TZOFFSETFROM:-0500
TZOFFSETTO:-0600
TZNAME:CST
DTSTART:20261101T070000
END:STANDARD
BEGIN:DAYLIGHT
TZOFFSETFROM:-0600
TZOFFSETTO:-0500
TZNAME:CDT
DTSTART:20270314T080000
END:DAYLIGHT
BEGIN:STANDARD
TZOFFSETFROM:-0500
TZOFFSETTO:-0600
TZNAME:CST
DTSTART:20271107T070000
END:STANDARD
END:VTIMEZONE
BEGIN:VEVENT
DTSTART;VALUE=DATE:20260619
DTEND;VALUE=DATE:20260620
DTSTAMP:20260423T195115
CREATED:20260126T214531Z
LAST-MODIFIED:20260126T214531Z
UID:10001590-1781827200-1781913599@gammelgardenmuseum.org
SUMMARY:Museum Closed for Juneteenth
DESCRIPTION:Gammelgården Museum will be closed in observance of Juneteenth. \nWhat is Juneteenth? From Wikipedia: \nJuneteenth\, officially Juneteenth National Independence Day\, is a federal holiday in the United States. It is celebrated annually on June 19 to commemorate the ending of slavery in the United States.  \nThe holiday’s name is a portmanteau of the words “June” and “nineteenth”\, as it was on June 19\, 1865 when Major General Gordon Granger ordered the final enforcement of the Emancipation Proclamation in Texas at the end of the American Civil War. \n In the Civil War period\, slavery came to an end in various areas of the United States at different times. Many enslaved Southerners escaped\, demanded wages\, stopped work\, or took up arms against the Confederacy of slave states.  \nIn January 1865\, Congress finally proposed the Thirteenth Amendment to the United States Constitution for national abolition of slavery. By June 1865\, almost all enslaved were freed by the victorious Union Army\, or abolition laws in some of the remaining U.S. states. When the national abolition amendment was ratified in December\, the remaining enslaved in Delaware and in Kentucky were freed.
URL:https://gammelgardenmuseum.org/event/museum-closed-for-juneteenth-2026/
LOCATION:MN
ATTACH;FMTTYPE=image/jpeg:https://gammelgardenmuseum.org/wp-content/uploads/2025/03/Juneteenth-2.jpg
END:VEVENT
END:VCALENDAR