BEGIN:VCALENDAR
VERSION:2.0
PRODID:-//Gammelgården Museum - ECPv6.15.20//NONSGML v1.0//EN
CALSCALE:GREGORIAN
METHOD:PUBLISH
X-ORIGINAL-URL:https://gammelgardenmuseum.org
X-WR-CALDESC:Events for Gammelgården Museum
REFRESH-INTERVAL;VALUE=DURATION:PT1H
X-Robots-Tag:noindex
X-PUBLISHED-TTL:PT1H
BEGIN:VTIMEZONE
TZID:America/Chicago
BEGIN:DAYLIGHT
TZOFFSETFROM:-0600
TZOFFSETTO:-0500
TZNAME:CDT
DTSTART:20250309T080000
END:DAYLIGHT
BEGIN:STANDARD
TZOFFSETFROM:-0500
TZOFFSETTO:-0600
TZNAME:CST
DTSTART:20251102T070000
END:STANDARD
BEGIN:DAYLIGHT
TZOFFSETFROM:-0600
TZOFFSETTO:-0500
TZNAME:CDT
DTSTART:20260308T080000
END:DAYLIGHT
BEGIN:STANDARD
TZOFFSETFROM:-0500
TZOFFSETTO:-0600
TZNAME:CST
DTSTART:20261101T070000
END:STANDARD
BEGIN:DAYLIGHT
TZOFFSETFROM:-0600
TZOFFSETTO:-0500
TZNAME:CDT
DTSTART:20270314T080000
END:DAYLIGHT
BEGIN:STANDARD
TZOFFSETFROM:-0500
TZOFFSETTO:-0600
TZNAME:CST
DTSTART:20271107T070000
END:STANDARD
END:VTIMEZONE
BEGIN:VEVENT
DTSTART;TZID=America/Chicago:20260627T100000
DTEND;TZID=America/Chicago:20260627T160000
DTSTAMP:20260423T195731
CREATED:20260112T223926Z
LAST-MODIFIED:20260414T000622Z
UID:10001567-1782554400-1782576000@gammelgardenmuseum.org
SUMMARY:Midsommardagen
DESCRIPTION:This Swedish festival is perhaps the most popular one of the year. Join us at Gammelgården Museum for this outdoor festival celebrating the beauty of the Summer Day. Dating back to ancient times\, Midsommardagen marks the longest day of the year and welcomes back warm weather.\nEnjoy traditional Swedish music\, group folk dancing\, hands-on activities\, arts\, crafts\, and vendor fair\, demonstrations by artists\, and\, in the center of it all\, the Majstång/Midsommarstång (May/Midsummer Pole)\, freshly decorated with spring greenery. \nEnjoy a picnic lunch with a wide array of food offered by three food trucks. Bring a chair and a blanket to enjoy your picnic on the museum grounds. Note that alcohol is not allowed on museum property. \nSchedule of Events:\n\nHistoric Buildings Open to the Public: 10:00-1:00 and 3:00-4:00 \nArtists\, Crafters\, and Vendors Fair: 10:00-4:00 \n– 1274 Periwinkle Lane\n– Butik (Gammelgården Museum of Scandia’s Gift Shop)\n\n– Carol’s Glass Creations\n\n– Chickadee Forest\n– Cynthia DeMar Arts\n– Drew’s Blades\n\n– Scandia Sister City Council\n– Scentsy\n– Shaped by Water\n– STITCHES by Carin\n– Washington County Master Gardeners – Milkweed\, Monarchs\, and Pollinators Team\nDemonstrations by Artists and Educators: 10:00-4:00\n– 1274 Periwinkle Lane – Inkle Loom Weaving\n– Cynthia DeMar Arts – Metalsmithing\n– Lisa Bauch from the Scandinavian Weavers Study Group\n– Washington County Master Gardeners – Milkweed\, Monarchs\, and Pollinators Team\n \nButik (Gammelgården’s Gift Shop) Open: 10:00-4:00 \nArtReach’s Mobile Art Gallery will be showing “Art of the Stamp.” This exhibit highlights the impactful history of the postal service and the significance of stamps as a method of global public art distribution. \nHands-on Activities for People of All Ages: 10:00-12:30\n– Make a Fresh-Flower Head Wreath (until supplies run out)\n– Make a Mini-Majstång/Midsommarstång (until supplies run out)\n– Swedish Coloring Sheets\n– Summer Scavenger Hunt. Print the scavenger hunt sheet from Gammelgården’s website and bring it to the front desk in the Welcome House (the big red building) to receive a free children’s book about Midsommar.\n– Temporary Tattoos\n \nMusic by the Scandia Community Band: 12:15-1:00 \nRaising of the Majstång/Midsommarstång\, May/Midsummer Pole: 1:00\n– Music and Stories by Renee Vaughan\, Paul Sauey (from Ponyfolk)\, and Rose Arrowsmith\n– Folk Dancing by the Vasa Junior Folk Dancers (Children Ages 3-18 Years Old who Preserve Swedish Dance\, Traditions\, and Heritage; and Share Swedish Culture with the Community) \nNOTE: Midsommardagen will be held rain or shine. If there is a thunderstorm\, the program will be held indoors at Elim Lutheran Church at 20971 Olinda Trail North. Elim is within a short walking distance from Gammelgården.  \nWatch the museum’s Facebook page or call the museum at 651-433-5053 for more information.
URL:https://gammelgardenmuseum.org/event/midsommardagen2026/
LOCATION:Gammelgarden Museum of Scandia\, 20880 Olinda Trail North\, Scandia\, MN\, 55073\, United States
CATEGORIES:Youth
END:VEVENT
END:VCALENDAR